BEGIN:VCALENDAR
VERSION:2.0
PRODID:-//ESSE Musicbar Winterthur//NONSGML kigkonsult.se iCalcreator 2.41.92//
CALSCALE:GREGORIAN
METHOD:PUBLISH
UID:34636662-3632-4565-b566-656638393861
X-WR-CALNAME:iCagenda
X-WR-CALDESC:Event Management Extension for Joomla!
X-WR-RELCALID:3E26604A-50F4-4449-8B3E-E4F4932D05B5
X-WR-TIMEZONE:Europe/Zurich
BEGIN:VTIMEZONE
TZID:Europe/Zurich
TZUNTIL:20231029T010000Z
BEGIN:STANDARD
TZNAME:CET
DTSTART:20211031T030000
TZOFFSETFROM:+0200
TZOFFSETTO:+0100
RDATE:20221030T030000
END:STANDARD
BEGIN:DAYLIGHT
TZNAME:CEST
DTSTART:20210328T020000
TZOFFSETFROM:+0100
TZOFFSETTO:+0200
RDATE:20220327T020000
RDATE:20230326T020000
END:DAYLIGHT
END:VTIMEZONE
BEGIN:VEVENT
UID:63366665-6439-4731-b832-346632633064
DTSTAMP:20260420T003920Z
CATEGORIES:Jazz
CLASS:PUBLIC
DESCRIPTION;ALTREP="CID:<FFFF__=0ABBE548DFE235B58f9e8a93d@coffeebean.com>":
 Das Sextett Becky &amp\; The Gents wurde vor zwei Jahren von Rebecca Spite
 ri ins Leben gerufen und besteht aus erfahrenen und bekannten Musiker:inne
 n der Zürcher-Jazzszene. Ihr Debüt fand am Frauenfelder Blues Festival 201
 8 statt.\nJedes Bandmitglied hat sich über die Jahre in diversen Stilricht
 ungen spezialisiert und Erfahrungen hierzulande und im Ausland gesammelt. 
 Alle haben etwas gemeinsames: Sie lieben das Fusionskonzept und vermischen
  gekonnt soulig-jazzige Tunes und packende Grooves\, stets angereichert mi
 t einer Prise Latin und eigenen Arrangements.\nRebecca Spiteri ist\, was m
 an eine authentische Sängerin mit einer wandlungsfähigen Stimme nennt: ihr
  internationaler Hintergrund und ihre Vielsprachigkeit befähigen sie\, unt
 erschiedlichste Stile mit grosser Echtheit wiederzugeben. Dank ihrer mehrj
 ährigen Aufenthalte in London\, Chico/Nordkalifornien und Caracas\, beherr
 scht sie den Jazz\, Gospel\, Soul\, R&amp\;B und den Latin Tumbao.\nDas Re
 pertoire von Becky &amp\; The Gents besteht aus eigens arrangierten und er
 frischend interpretierten und mitreissenden Grooves von Chick Corea\, Hora
 ce Silver\, Cole Porter und einem Mix aus kraftvollen bluesig-funkigen Tun
 es mit energiegeladenen Saxophon-Solis sowie verträumten Bossas mit subtil
 en Gitarrensolis. Für jeden Geschmack ist etwas dabei!\nRebecca Spiteri (v
 oc)\, Lukas Gadola (s)\, Natascha Stohler (p\, keyb)\, David Wildi (g)\, R
 ichard Pechota (b)\, Fabio Vezzio (dr)\nhttps://www.beckyandthegents.com
DTSTART:20220226T191500Z
DTEND:20220226T191500Z
GEO:00;0
LOCATION:
ORGANIZER:
SEQUENCE:1
SUMMARY:Becky & The Gents
TRANSP:OPAQUE
URL:https://www.esse.bar/index.php/veranstaltungen/vergangene-veranstaltung
 en/1518-becky-the-gents/2022-02-26-20-15
END:VEVENT
END:VCALENDAR
