BEGIN:VCALENDAR
VERSION:2.0
PRODID:-//ESSE Musicbar Winterthur//NONSGML kigkonsult.se iCalcreator 2.41.92//
CALSCALE:GREGORIAN
METHOD:PUBLISH
UID:65633137-3832-4564-b266-663837323439
X-WR-CALNAME:iCagenda
X-WR-CALDESC:Event Management Extension for Joomla!
X-WR-RELCALID:3E26604A-50F4-4449-8B3E-E4F4932D05B5
X-WR-TIMEZONE:Europe/Zurich
BEGIN:VTIMEZONE
TZID:Europe/Zurich
TZUNTIL:20231029T010000Z
BEGIN:STANDARD
TZNAME:CET
DTSTART:20211031T030000
TZOFFSETFROM:+0200
TZOFFSETTO:+0100
RDATE:20221030T030000
END:STANDARD
BEGIN:DAYLIGHT
TZNAME:CEST
DTSTART:20210328T020000
TZOFFSETFROM:+0100
TZOFFSETTO:+0200
RDATE:20220327T020000
RDATE:20230326T020000
END:DAYLIGHT
END:VTIMEZONE
BEGIN:VEVENT
UID:34383464-6564-4431-b965-316434396261
DTSTAMP:20260420T003605Z
CATEGORIES:Party
CLASS:PUBLIC
DESCRIPTION;ALTREP="CID:<FFFF__=0ABBE548DFE235B58f9e8a93d@coffeebean.com>":
 Dies ist eine Veranstaltung des Vereins «Let’s dance 45».\nLiebe Tanz- und
  Musikbegeisterte\nGönnen wir uns am 26. März ab 20 Uhr in der Esse Musicb
 ar in Winterthur ein paar unbeschwerte Stunden für Körper\, Geist und Seel
 e. Wir legen einen Abend lang Ohrwürmer und unbekannte Rosinen auf die Pla
 ttenteller und wünschen euch einen zum Tanzen und Zuhören anregenden Abend
  mit Singles aus den 50er bis 80er Jahren.\nWir hoffen\, dass bei euch nac
 h der langen Pandemie bedingten Abwesenheit und der ohnmächtig machenden K
 riegssituation in Ost-Europa der Wunsch vorhanden ist\, sich einen Abend l
 ang musikalisch in eine Welt entführen zu lassen\, die nostalgische Gedank
 en und Gefühlen auslöst.\nEin weiterer Tanzabend findet in Winterthur am 2
 8. Mai statt. Dann sind wir auch von unserer Seite fast vollzählig dabei.
 \nBis bald und mit lieben GrüssenLet's Dance 45und das Esse-Team\nSelbstve
 rständlich sind auch die beliebten ESSE-Barsnacks erhältlich.\nEintritt CH
 F 20.– | Reduziertes Sitzplatzangebot | keine Platzreservation\nwww.letsda
 nce45.ch | Flyer
DTSTART:20220326T190000Z
DTEND:20220326T190000Z
GEO:00;0
LOCATION:
ORGANIZER:
SEQUENCE:1
SUMMARY:Let's dance 45
TRANSP:OPAQUE
URL:https://www.esse.bar/index.php/veranstaltungen/vergangene-veranstaltung
 en/1521-let-s-dance-57/2022-03-26-20-00
END:VEVENT
END:VCALENDAR
