BEGIN:VCALENDAR
VERSION:2.0
PRODID:-//ESSE Musicbar Winterthur//NONSGML kigkonsult.se iCalcreator 2.41.92//
CALSCALE:GREGORIAN
METHOD:PUBLISH
UID:34653332-6666-4636-b731-656338356436
X-WR-CALNAME:iCagenda
X-WR-CALDESC:Event Management Extension for Joomla!
X-WR-RELCALID:3E26604A-50F4-4449-8B3E-E4F4932D05B5
X-WR-TIMEZONE:Europe/Zurich
BEGIN:VTIMEZONE
TZID:Europe/Zurich
TZUNTIL:20240331T010000Z
BEGIN:STANDARD
TZNAME:CET
DTSTART:20211031T030000
TZOFFSETFROM:+0200
TZOFFSETTO:+0100
RDATE:20221030T030000
RDATE:20231029T030000
END:STANDARD
BEGIN:DAYLIGHT
TZNAME:CEST
DTSTART:20220327T020000
TZOFFSETFROM:+0100
TZOFFSETTO:+0200
RDATE:20230326T020000
END:DAYLIGHT
END:VTIMEZONE
BEGIN:VEVENT
UID:64383637-3334-4132-b330-663637303962
DTSTAMP:20260419T230053Z
CATEGORIES:Party
CLASS:PUBLIC
DESCRIPTION;ALTREP="CID:<FFFF__=0ABBE548DFE235B58f9e8a93d@coffeebean.com>":
 Dies ist eine Veranstaltung des Vereins «Let’s dance 45».\nLiebe Let's Dan
 cer\nNach langem Unterbruch aus Pademiegründen und gesundheitlich bedingt 
 wollen wir es jetzt wissen! Wir legen in der ESSE MUSICBAR heisse Platten 
 aus den 50er bis 80er Jahren auf. Vieles Unbekanntes kommt neben bekannten
  Melodien und Ohrwürmer auf die Plattenteller\, alles Musik\, die euch in 
 Bewegung setzen wird und zum Tanzen animiert.\nZusammen mit dem ESSE-TEAM 
 freuen wir uns riesig auf viele Tanzbegeisterte\, die nach der langen Paus
 e wieder Lust auf unsere Musik haben und die Ambience der ESSE MUSIKBAR. D
 ie Bar ist wie gewohnt schon ab 17 Uhr offen und bietet ihre Snacks und Dr
 inks an.\nAuf zahlreiches Wiedersehen freuen sichJochen\, Mark\, Rolf und 
 Stefanund das ESSE TEAM\nEintritt CHF 20.– | Reduziertes Sitzplatzangebot 
 | keine Platzreservation\nwww.letsdance45.ch\nAktueller Flyer
DTSTART:20220528T180000Z
DTEND:20220528T180000Z
GEO:00;0
LOCATION:
ORGANIZER:
SEQUENCE:1
SUMMARY:Let's dance 45
TRANSP:OPAQUE
URL:https://www.esse.bar/index.php/veranstaltungen/vergangene-veranstaltung
 en/1529-let-s-dance-58/2022-05-28-20-00
END:VEVENT
END:VCALENDAR
