BEGIN:VCALENDAR
VERSION:2.0
PRODID:-//ESSE Musicbar Winterthur//NONSGML kigkonsult.se iCalcreator 2.41.92//
CALSCALE:GREGORIAN
METHOD:PUBLISH
UID:65376137-6330-4232-a135-346439326264
X-WR-CALNAME:iCagenda
X-WR-CALDESC:Event Management Extension for Joomla!
X-WR-RELCALID:3E26604A-50F4-4449-8B3E-E4F4932D05B5
X-WR-TIMEZONE:Europe/Zurich
BEGIN:VTIMEZONE
TZID:Europe/Zurich
TZUNTIL:20231029T010000Z
BEGIN:STANDARD
TZNAME:CET
DTSTART:20211031T030000
TZOFFSETFROM:+0200
TZOFFSETTO:+0100
RDATE:20221030T030000
END:STANDARD
BEGIN:DAYLIGHT
TZNAME:CEST
DTSTART:20210328T020000
TZOFFSETFROM:+0100
TZOFFSETTO:+0200
RDATE:20220327T020000
RDATE:20230326T020000
END:DAYLIGHT
END:VTIMEZONE
BEGIN:VEVENT
UID:35306133-3233-4462-b931-363832383936
DTSTAMP:20260420T021415Z
CATEGORIES:Jazz
CLASS:PUBLIC
DESCRIPTION;ALTREP="CID:<FFFF__=0ABBE548DFE235B58f9e8a93d@coffeebean.com>":
 Mit einem Mix aus eigenen Kompositionen und ausgewählten Standards aus dem
  Great American Songbook begegnet sich diese Formation direkt auf der Bühn
 e. Verankert in den verschiedensten Ecken der Schweizer Jazzszene ist der 
 gemeinsame Konsens dieses Quartetts schnell gefunden: We like music!\nTobi
 as Pfister (as)\, Leandro Irarragori (p)\, Gianni Narduzzi (db)\, Samir Bö
 hringer (dr)\nhttps://www.tobiaspfister.comhttps://www.samirboehringer.com
DTSTART:20220120T191500Z
DTEND:20220120T191500Z
GEO:00;0
LOCATION:
ORGANIZER:
SEQUENCE:1
SUMMARY:We like music!
TRANSP:OPAQUE
URL:https://www.esse.bar/index.php/veranstaltungen/vergangene-veranstaltung
 en/1531-we-like-music/2022-01-20-20-15
END:VEVENT
END:VCALENDAR
