BEGIN:VCALENDAR
VERSION:2.0
PRODID:-//ESSE Musicbar Winterthur//NONSGML kigkonsult.se iCalcreator 2.41.92//
CALSCALE:GREGORIAN
METHOD:PUBLISH
UID:61663537-6633-4262-b137-373762333234
X-WR-CALNAME:iCagenda
X-WR-CALDESC:Event Management Extension for Joomla!
X-WR-RELCALID:3E26604A-50F4-4449-8B3E-E4F4932D05B5
X-WR-TIMEZONE:Europe/Zurich
BEGIN:VTIMEZONE
TZID:Europe/Zurich
TZUNTIL:20231029T010000Z
BEGIN:STANDARD
TZNAME:CET
DTSTART:20211031T030000
TZOFFSETFROM:+0200
TZOFFSETTO:+0100
RDATE:20221030T030000
END:STANDARD
BEGIN:DAYLIGHT
TZNAME:CEST
DTSTART:20210328T020000
TZOFFSETFROM:+0100
TZOFFSETTO:+0200
RDATE:20220327T020000
RDATE:20230326T020000
END:DAYLIGHT
END:VTIMEZONE
BEGIN:VEVENT
UID:32383738-6339-4438-b765-663862373135
DTSTAMP:20260420T021221Z
CATEGORIES:Jazz
CLASS:PUBLIC
DESCRIPTION;ALTREP="CID:<FFFF__=0ABBE548DFE235B58f9e8a93d@coffeebean.com>":
 So schnell kann es gehen: Ein Handschlag\, ein 'Okidoki\, ich bin dabei!' 
 – und schon steht das Projekt. Die Band\, die der Zürcher Saxofonist Felix
  Straumann extra für dieses Konzert zusammengestellt hat\, bietet Vertraut
 es und Überraschendes zugleich.\nSeine Mitmusiker Raphael Kalt (tp)\, Roma
 n Tulei (p)\, Chris Frey (db) und Marius Peyer (dr) sind gestandene Jazzgr
 össen und waren und sind immer wieder auf der Bühne in der ESSE zu Gast. D
 och in dieser Kombination haben sie noch nie zusammen musiziert. Das versp
 richt viel gutgelaunte Spontanität\, knisternde Grooves und spannendes Int
 erplay. Das Repertoire: Songs von Billie Holiday bis Eric Clapton und natü
 rlich solche aus eigener Feder.\nRaphael Kalt (tp)\, Felix Straumann (s)\,
  Roman Tulei (p)\, Chris Frey (db)\, Marius Peyer (dr)
DTSTART:20220121T191500Z
DTEND:20220121T191500Z
GEO:00;0
LOCATION:
ORGANIZER:
SEQUENCE:1
SUMMARY:Okidoki Jazz Quintett
TRANSP:OPAQUE
URL:https://www.esse.bar/index.php/veranstaltungen/vergangene-veranstaltung
 en/1532-okidoki-jazz-quintett/2022-01-21-20-15
END:VEVENT
END:VCALENDAR
