BEGIN:VCALENDAR
VERSION:2.0
PRODID:-//ESSE Musicbar Winterthur//NONSGML kigkonsult.se iCalcreator 2.41.92//
CALSCALE:GREGORIAN
METHOD:PUBLISH
UID:64623132-3731-4436-b564-316663316539
X-WR-CALNAME:iCagenda
X-WR-CALDESC:Event Management Extension for Joomla!
X-WR-RELCALID:3E26604A-50F4-4449-8B3E-E4F4932D05B5
X-WR-TIMEZONE:Europe/Zurich
BEGIN:VTIMEZONE
TZID:Europe/Zurich
TZUNTIL:20231029T010000Z
BEGIN:STANDARD
TZNAME:CET
DTSTART:20211031T030000
TZOFFSETFROM:+0200
TZOFFSETTO:+0100
RDATE:20221030T030000
END:STANDARD
BEGIN:DAYLIGHT
TZNAME:CEST
DTSTART:20210328T020000
TZOFFSETFROM:+0100
TZOFFSETTO:+0200
RDATE:20220327T020000
RDATE:20230326T020000
END:DAYLIGHT
END:VTIMEZONE
BEGIN:VEVENT
UID:62623339-6535-4539-b563-323962323430
DTSTAMP:20260420T020105Z
CATEGORIES:Jazz Jam Point Session
CLASS:PUBLIC
DESCRIPTION;ALTREP="CID:<FFFF__=0ABBE548DFE235B58f9e8a93d@coffeebean.com>":
 Musikanten\, die mitjamen möchten melden sich direkt bei Richard Schmied r
 schmied(at)bluewin.ch | Telefon 044-869 42 32 – mobil 079-433 76 33\nDie J
 am-Session ist seit der Zeit des Chicago-Jazz eine beliebte Form des Zusam
 menspielens von Jazz-Musikern\, die in der Regel nicht zusammenspielen und
  sich oft kaum kennen. Gespielt werden dabei meist Standards aus dem Great
  American Songbook\, von Traditional bis Swing.\nUnter dem Label «Jam Poin
 t» finden seit Juli 2014 regelmässige Jam-Sessions statt\, zuerst im Schlo
 sshof in Altikon\, dann ab Januar 2016 in der Neustadt-Bar in Schaffhausen
  und neu ab Januar 2022 bei uns in der ESSE. Die Sessions werden jeweils a
 m letzten Mittwoch alle zwei Monate durchgeführt (exkl. Juli/August-Sommer
 ferien).\nVorgestellt werden bei «Jam Point» interessante Solisten\, begle
 itet von der «JamPointGroup» als Basis-Band. Im Lauf des Abends bringen si
 ch weitere Musiker :innen in die Jam-Session ein. Das Publikum nimmt so te
 il am spontanen Entstehen musikalisch-kreativer Momente.\nDie Sessions sin
 d offen für alle. Sie werden geleitet vom Band-Leader\, der wechselnde Gru
 ppierungen zusammenstellt. Damit soll erreicht werden\, dass sowohl Publik
 um wie Musiker einen interessanten und musikalisch hochstehenden Abend erl
 eben.\nErwartet werden zu diesem ersten Jam die beiden Stars aus Deutschla
 nd:Isabelle Bodenseh\, die Flötistin\, die ihren diversen Flöten\, von Sop
 ran bis Bass\, wunderbare Töne entlockt\, welche Emotionen wecken und dank
  enormem Swing und Groove jede und jeden mitzureissen vermögen sowie Loren
 zo Petrocca\, der virtuose Gitarrist mit italienischen Wurzeln\, der trotz
  seiner fulminanten Technik auf seinem Instrument ein einfühlsamer Begleit
 er und gleichzeitig ein sensibler Bauchmusiker geblieben ist.  Isabelle un
 d Lorenzo\, in Jazzkreisen europaweit bekannt\, werden zu Beginn einen kur
 zen Einblick in ihr Programm «Jazz a la flute» geben und anschliessend bei
 m „open jam“ mit den anwesenden Musikerinnen und Musikern jammen was das Z
 eug hält. Angemeldet sind nebst der «JamPointGroup» bisher folgende Musike
 r: Philippe Chrétien und Carles Peris (beide ts)\, John Service und Rolf W
 iniger (beide tb)\, Ivan Masha Künzli (g) und John Mumford (b). Weitere An
 meldungen werden jeweils nach Eingang auf der «Jam Point»-Website veröffen
 tlicht.  Selbstverständlich sind\, wie auch bei den bisherigen Sessions\, 
 engagierte Jazzer:innen herzlich eingeladen\, spontan die Instrumente und 
 natürlich auch die Stimme(!) mitzubringen. In kleinen\, regelmässig wechse
 lnden Formationen\, kommen alle zum Spielen.\nRichi Schmied (tp\, flh)\, B
 runo Bosshardt (cl\, s)\, Elmar Kluth (p)\, Timon Roth (b)\, Bernie Ruch (
 dr)Special guests: Isabelle Bodenseh (fl)\, Lorenzo Petrocca (g)\nhttp://w
 ww.jam-point.ch/\nMusikanten\, die mitjamen möchten melden sich direkt bei
  Richard Schmied rschmied(at)bluewin.ch | Telefon 044-869 42 32 – mobil 07
 9-433 76 33
DTSTART:20220126T191500Z
DTEND:20220126T191500Z
GEO:00;0
LOCATION:
ORGANIZER:
SEQUENCE:1
SUMMARY:Jam Point Session
TRANSP:OPAQUE
URL:https://www.esse.bar/index.php/veranstaltungen/vergangene-veranstaltung
 en/1533-jam-point-session/2022-01-26-20-15
END:VEVENT
END:VCALENDAR
