BEGIN:VCALENDAR
VERSION:2.0
PRODID:-//ESSE Musicbar Winterthur//NONSGML kigkonsult.se iCalcreator 2.41.92//
CALSCALE:GREGORIAN
METHOD:PUBLISH
UID:66666565-3965-4832-a665-343666313163
X-WR-CALNAME:iCagenda
X-WR-CALDESC:Event Management Extension for Joomla!
X-WR-RELCALID:3E26604A-50F4-4449-8B3E-E4F4932D05B5
X-WR-TIMEZONE:Europe/Zurich
BEGIN:VTIMEZONE
TZID:Europe/Zurich
TZUNTIL:20231029T010000Z
BEGIN:STANDARD
TZNAME:CET
DTSTART:20211031T030000
TZOFFSETFROM:+0200
TZOFFSETTO:+0100
RDATE:20221030T030000
END:STANDARD
BEGIN:DAYLIGHT
TZNAME:CEST
DTSTART:20210328T020000
TZOFFSETFROM:+0100
TZOFFSETTO:+0200
RDATE:20220327T020000
RDATE:20230326T020000
END:DAYLIGHT
END:VTIMEZONE
BEGIN:VEVENT
UID:61623930-3461-4133-b362-643436613162
DTSTAMP:20260420T003908Z
CATEGORIES:Jazz
CLASS:PUBLIC
DESCRIPTION;ALTREP="CID:<FFFF__=0ABBE548DFE235B58f9e8a93d@coffeebean.com>":
 Das «Pop-up Jazz Trio» (CH/USA) kommt für eine zweite Runde zurück in die 
 ESSE. Wie im vergangenen September 2020 setzen die drei Musiker auch diesm
 al konsequent auf Basisdemokratie und lassen das Publikum entscheiden\, we
 lche Songs gespielt werden.\nDiesmal stehen die Pop-Grössen Bill Withers\,
  Louis Armstrong\, Bob Marley\, Chaka Khan und Mani Matter zur Wahl. Deren
  Songs interpretiert die Band jazzig\, im Geiste des Jimmy Giuffre Trio de
 r 1950er.\nFelix Straumann (s)\, Matthias Siegrist (g)\, Chris Frey (db)\n
 pop-up-jazz.com
DTSTART:20220224T191500Z
DTEND:20220224T191500Z
GEO:00;0
LOCATION:
ORGANIZER:
SEQUENCE:1
SUMMARY:Pop-up Jazz Trio
TRANSP:OPAQUE
URL:https://www.esse.bar/index.php/veranstaltungen/vergangene-veranstaltung
 en/1534-pop-up-jazz-trio/2022-02-24-20-15
END:VEVENT
END:VCALENDAR
