BEGIN:VCALENDAR
VERSION:2.0
PRODID:-//ESSE Musicbar Winterthur//NONSGML kigkonsult.se iCalcreator 2.41.92//
CALSCALE:GREGORIAN
METHOD:PUBLISH
UID:37306537-3432-4337-a530-363163343264
X-WR-CALNAME:iCagenda
X-WR-CALDESC:Event Management Extension for Joomla!
X-WR-RELCALID:3E26604A-50F4-4449-8B3E-E4F4932D05B5
X-WR-TIMEZONE:Europe/Zurich
BEGIN:VTIMEZONE
TZID:Europe/Zurich
TZUNTIL:20231029T010000Z
BEGIN:STANDARD
TZNAME:CET
DTSTART:20211031T030000
TZOFFSETFROM:+0200
TZOFFSETTO:+0100
RDATE:20221030T030000
END:STANDARD
BEGIN:DAYLIGHT
TZNAME:CEST
DTSTART:20210328T020000
TZOFFSETFROM:+0100
TZOFFSETTO:+0200
RDATE:20220327T020000
RDATE:20230326T020000
END:DAYLIGHT
END:VTIMEZONE
BEGIN:VEVENT
UID:35303531-3136-4538-b533-643637363634
DTSTAMP:20260420T003604Z
CATEGORIES:Folk & More
CLASS:PUBLIC
DESCRIPTION;ALTREP="CID:<FFFF__=0ABBE548DFE235B58f9e8a93d@coffeebean.com>":
 James Connolly - Songs Of Freedom (Foto: Vincenzo Barbagallo)\nAls Herausg
 eber publizierte James Connolly 1907 in New York das «Songs of Freedom Son
 gbook». Mit seinen irischen Arbeitersongs\, richtete er sich an die amerik
 anische Arbeiterklasse. Freiheit\, Emanzipation\, ein besseres Leben\, bes
 sere Arbeitsbedingungen für alle - nicht nur für wenige. Dafür sind er und
  seine Mitstreiter eingestanden und genauso lauten die Rufe heute in unser
 er Gesellschaft - in der ganzen Welt.\nMat Callahan und Yvonne Moore haben
  2016 Connollys Material für eine CD und ein Buch zusammengetragen\, in Oa
 kland USA herausgegeben und damit in Irland\, Amerika\, Italien und der Sc
 hweiz ihr Publikum bespielt und begeistert. Sie tun dies erneut für uns\, 
 für Euch.\nEine weitere Gelegenheit die beiden zu hören\, bietet sich am M
 ittwoch\, 16. März 2022 im Restaurant &amp\; Weinbar 1733\, St.Gallen (htt
 ps://www.wartsab-st-gallen.ch/ )\nMat Callahan (g\, voc)\, Yvonne Moore (h
 arp\, voc)\nwww.matandyvonne.comwww.arthistorypolitics.com
DTSTART:20220306T183000Z
DTEND:20220306T183000Z
GEO:00;0
LOCATION:
ORGANIZER:
SEQUENCE:1
SUMMARY:Mat Callahan & Yvonne Moore
TRANSP:OPAQUE
URL:https://www.esse.bar/index.php/veranstaltungen/vergangene-veranstaltung
 en/1535-yvonne/2022-03-06-19-30
END:VEVENT
END:VCALENDAR
