BEGIN:VCALENDAR
VERSION:2.0
PRODID:-//ESSE Musicbar Winterthur//NONSGML kigkonsult.se iCalcreator 2.41.92//
CALSCALE:GREGORIAN
METHOD:PUBLISH
UID:66616661-3265-4564-b462-313962663462
X-WR-CALNAME:iCagenda
X-WR-CALDESC:Event Management Extension for Joomla!
X-WR-RELCALID:3E26604A-50F4-4449-8B3E-E4F4932D05B5
X-WR-TIMEZONE:Europe/Zurich
BEGIN:VTIMEZONE
TZID:Europe/Zurich
TZUNTIL:20231029T010000Z
BEGIN:STANDARD
TZNAME:CET
DTSTART:20211031T030000
TZOFFSETFROM:+0200
TZOFFSETTO:+0100
RDATE:20221030T030000
END:STANDARD
BEGIN:DAYLIGHT
TZNAME:CEST
DTSTART:20210328T020000
TZOFFSETFROM:+0100
TZOFFSETTO:+0200
RDATE:20220327T020000
RDATE:20230326T020000
END:DAYLIGHT
END:VTIMEZONE
BEGIN:VEVENT
UID:39303866-3461-4635-b230-363535613333
DTSTAMP:20260420T003502Z
CATEGORIES:Folk & More
CLASS:PUBLIC
DESCRIPTION;ALTREP="CID:<FFFF__=0ABBE548DFE235B58f9e8a93d@coffeebean.com>":
 Brambus Records präsentiert:\nBrendan Monaghan\nDunkler Anzug\, weisses He
 md: Brendan Monaghan ist der Gentleman unter den Singer/Songwritern. Der M
 ann aus Nordirland hat sich als grosser Songschreiber in irischer Traditio
 n etabliert und bereits sieben CDs auf dem Schweizer Kennerlabel «Brambus 
 Records» veröffentlicht.\nBrendan ist immer wieder auf Tournee und bringt 
 sein Repertoire in ganz Europa auf die Bühne. Doch wie viele Musiker:innen
  ereilte auch ihn die Zwangspause und er sass beinahe zwei Jahre auf der I
 nsel fest. Dort hat er neue Songs geschrieben\, die bald als Lockdown-Albu
 m mit dem Titel «Light From The Light That Never Ends» erscheinen werden.
 \nMan hört\, dass er sich länger mit Folk-Pop amerikanischer Prägung befas
 st hat. Dazu passt seine angenehme Stimme. Wer früher Gordon Lightfoot ode
 r John Denver gehört hat\, wird sich rasch wie zu Hause fühlen. Jetzt mach
 t Monaghan auf seiner Solo-Tour auch wieder einen Abstecher nach Winterthu
 r. Im Mittelpunkt des Programms stehen seine eigenen feinen Songs\, dazu s
 teuert er aber auch einige irische Klassiker bei\, die dem Publikum zu ein
 em grossen Teil bekannt sein dürften.\nBrendan Monaghan (g\, voc)\nhttp://
 www.brendanmonaghan.com
DTSTART:20220313T183000Z
DTEND:20220313T183000Z
GEO:00;0
LOCATION:
ORGANIZER:
SEQUENCE:1
SUMMARY:Brendan Monaghan
TRANSP:OPAQUE
URL:https://www.esse.bar/index.php/veranstaltungen/vergangene-veranstaltung
 en/1536-brendan-monaghan/2022-03-13-19-30
END:VEVENT
END:VCALENDAR
