BEGIN:VCALENDAR
VERSION:2.0
PRODID:-//ESSE Musicbar Winterthur//NONSGML kigkonsult.se iCalcreator 2.41.92//
CALSCALE:GREGORIAN
METHOD:PUBLISH
UID:38343533-3466-4563-b236-346435373862
X-WR-CALNAME:iCagenda
X-WR-CALDESC:Event Management Extension for Joomla!
X-WR-RELCALID:3E26604A-50F4-4449-8B3E-E4F4932D05B5
X-WR-TIMEZONE:Europe/Zurich
BEGIN:VTIMEZONE
TZID:Europe/Zurich
TZUNTIL:20231029T010000Z
BEGIN:STANDARD
TZNAME:CET
DTSTART:20211031T030000
TZOFFSETFROM:+0200
TZOFFSETTO:+0100
RDATE:20221030T030000
END:STANDARD
BEGIN:DAYLIGHT
TZNAME:CEST
DTSTART:20210328T020000
TZOFFSETFROM:+0100
TZOFFSETTO:+0200
RDATE:20220327T020000
RDATE:20230326T020000
END:DAYLIGHT
END:VTIMEZONE
BEGIN:VEVENT
UID:30376332-3163-4531-a430-393438346237
DTSTAMP:20260420T020243Z
CATEGORIES:Folk & More
CLASS:PUBLIC
DESCRIPTION;ALTREP="CID:<FFFF__=0ABBE548DFE235B58f9e8a93d@coffeebean.com>":
 Virtuose Folk\, Latin- und Gipsymusik Folk à la française.\nAus den vier H
 immelsrichtungen treffen sich die Winde für einen wirbelnden Tanz über Lan
 d und Meer. Geschichten und Klänge aus den verschiedensten Ecken der Welt 
 kreisen umeinander und vermischen sich\, manchmal zu einer milden Sommerbr
 ise\, manchmal zu einem zügellosen Sturm.\nDie «Zéphyr Combo» präsentiert 
 tanzbare Chansons voller Energie\, Poesie und Humor. Seit ihrer Gründung 2
 012 hat die bunte Truppe mehr als 400 Konzerte im In- und Ausland gespielt
  und drei Alben aufgenommen. Zu viert unterwegs\, mit Gesang\, Akkordeon\,
  Geige\, Drehleier\, Piano\, akustischer und E-Gitarre\, Querflöte\, Helik
 on und Perkussion\, lädt die Combo zum Mitschwingen und Davonträumen ein.
 \nDer Zéphyrwind hat\, allen Pandemien zum Trotz und ganz seiner Art entsp
 rechend\, nie aufgehört zu wehen.\nEsther Nydegger (vl\, voc\, fl\, g)\, G
 eert Dedapper (acc\, voc\, p\, Drehleier\, g)\, Leon Schaetti (Helikon\, v
 oc)\, Bischi (dr)\nwww.zephyrcombo.ch
DTSTART:20220213T183000Z
DTEND:20220213T183000Z
GEO:00;0
LOCATION:
ORGANIZER:
SEQUENCE:1
SUMMARY:Zéphyr Combo
TRANSP:OPAQUE
URL:https://www.esse.bar/index.php/veranstaltungen/vergangene-veranstaltung
 en/1537-zephyr-combo/2022-02-13-19-30
END:VEVENT
END:VCALENDAR
