BEGIN:VCALENDAR
VERSION:2.0
PRODID:-//ESSE Musicbar Winterthur//NONSGML kigkonsult.se iCalcreator 2.41.92//
CALSCALE:GREGORIAN
METHOD:PUBLISH
UID:63626635-6435-4866-b334-653264383030
X-WR-CALNAME:iCagenda
X-WR-CALDESC:Event Management Extension for Joomla!
X-WR-RELCALID:3E26604A-50F4-4449-8B3E-E4F4932D05B5
X-WR-TIMEZONE:Europe/Zurich
BEGIN:VTIMEZONE
TZID:Europe/Zurich
TZUNTIL:20231029T010000Z
BEGIN:STANDARD
TZNAME:CET
DTSTART:20211031T030000
TZOFFSETFROM:+0200
TZOFFSETTO:+0100
RDATE:20221030T030000
END:STANDARD
BEGIN:DAYLIGHT
TZNAME:CEST
DTSTART:20210328T020000
TZOFFSETFROM:+0100
TZOFFSETTO:+0200
RDATE:20220327T020000
RDATE:20230326T020000
END:DAYLIGHT
END:VTIMEZONE
BEGIN:VEVENT
UID:61383534-3531-4639-b031-356365313130
DTSTAMP:20260420T003749Z
CATEGORIES:Jazz
CLASS:PUBLIC
DESCRIPTION;ALTREP="CID:<FFFF__=0ABBE548DFE235B58f9e8a93d@coffeebean.com>":
 Wayne Shorter (* 25. August 1933 in Newark\, New Jersey) ist ein US-amerik
 anischer Jazz-Saxophonist und -Komponist. Zunächst spielte er für Horace S
 ilver und Maynard Ferguson\, bevor er ab 1959 zu «Art Blakey's Jazz Messen
 gers» stiess. Er wurde deren musikalischer Leiter\, bevor er 1964 auf Empf
 ehlung von John Coltrane von Miles Davis abgeworben wurde.\nShorter veröff
 entlichte aber auch meist hoch gelobte Alben unter eigenem Namen\, wie 196
 4 «Night Dreamer» als sein erstes Album für Blue Note Records. Von 1964 bi
 s 1969 war er - neben Herbie Hancock\, Ron Carter und Tony Williams - Mitg
 lied des zweiten „klassischen“ Miles Davis Quintetts\, für das er viele Ko
 mpositionen schrieb\, die zu Klassikern wurden\, darunter die Stücke «Foot
 prints» und «Nefertiti». Shorter war der „logische“ Nachfolger von John Co
 ltrane in Davis’ Gruppe\, was noch dadurch untermauert wurde\, dass er bei
  Blue Note in jener Zeit unter seinem Namen eine Quartett-Platte mit Coltr
 anes Begleitern McCoy Tyner und Elvin Jones einspielte («Juju»).\nIm Jahr 
 1970 gründete Wayne Shorter gemeinsam mit dem Keyboarder Joe Zawinul und d
 em Bassisten Miroslav Vitouš die legendäre Jazz-Rock-Formation «Weather Re
 port»\, der später auch Jaco Pastorius und Peter Erskine angehörten. In di
 e Zeit der frühen «Weather Report» fällt auch Shorters weitgehender Wechse
 l vom Tenorsaxophon\, das er bis 1968 ausschliesslich gespielt hatte\, auf
  das Sopransaxophon und Lyricon. Parallel spielte er seit 1976 auch wieder
  akustischen Jazz mit «V.S.O.P.».\nSeit der Auflösung von «Weather Report»
  (nach Meinung Joachim Ernst Berendts „der erfolgreichsten aller Jazz-Rock
 -Gruppen“) arbeitete Wayne Shorter solistisch. Er begleitete Carlos Santan
 a und die Rolling Stones auf Tourneen und spielte auf mehreren Alben von J
 oni Mitchell und mit Steely Dan. Seit einigen Jahren leitet er ein hoch ge
 lobtes Quartett mit dem Pianisten Danilo Pérez\, dem Bassisten John Patitu
 cci sowie dem Schlagzeuger Brian Blade (CDs: «Footprints Live» und «Beyond
  the Sound Barrier»).\nEin reichhaltiger Fundus also\, dem sich Christian 
 Rösli (p) und Andreas Zitz (db) in ihrer Reihe «Don’t Forget The Poets» an
 nehmen können. Als Gäste für diesen «Wayne Shorter»-Tribut haben die beide
 n Thomi Geiger am Saxophon und Marius Peyer am Schlagzeug eingeladen.\nTho
 mi Geiger (ss\, as)\, Christian Rösli (p)\, Andreas Zitz (db)\, Marius Pey
 er (dr)\nhttp://www.spittinhorns.ch/styled/styled-8/index.htmlhttps://andr
 easzitz.chhttps://kellers10.ch/de/band/marius-peyer/
DTSTART:20220225T191500Z
DTEND:20220225T191500Z
GEO:00;0
LOCATION:
ORGANIZER:
SEQUENCE:1
SUMMARY:Don’t Forget The Poets #9 - 'The Music of Wayne Shorter'
TRANSP:OPAQUE
URL:https://www.esse.bar/index.php/veranstaltungen/vergangene-veranstaltung
 en/1540-2022-01-25-16-37-49/2022-02-25-20-15
END:VEVENT
END:VCALENDAR
