BEGIN:VCALENDAR
VERSION:2.0
PRODID:-//ESSE Musicbar Winterthur//NONSGML kigkonsult.se iCalcreator 2.41.92//
CALSCALE:GREGORIAN
METHOD:PUBLISH
UID:35653138-6437-4364-a438-316365313564
X-WR-CALNAME:iCagenda
X-WR-CALDESC:Event Management Extension for Joomla!
X-WR-RELCALID:3E26604A-50F4-4449-8B3E-E4F4932D05B5
X-WR-TIMEZONE:Europe/Zurich
BEGIN:VTIMEZONE
TZID:Europe/Zurich
TZUNTIL:20231029T010000Z
BEGIN:STANDARD
TZNAME:CET
DTSTART:20211031T030000
TZOFFSETFROM:+0200
TZOFFSETTO:+0100
RDATE:20221030T030000
END:STANDARD
BEGIN:DAYLIGHT
TZNAME:CEST
DTSTART:20210328T020000
TZOFFSETFROM:+0100
TZOFFSETTO:+0200
RDATE:20220327T020000
RDATE:20230326T020000
END:DAYLIGHT
END:VTIMEZONE
BEGIN:VEVENT
UID:33616365-6230-4634-b536-393466616366
DTSTAMP:20260420T003756Z
CATEGORIES:Jazz
CLASS:PUBLIC
DESCRIPTION;ALTREP="CID:<FFFF__=0ABBE548DFE235B58f9e8a93d@coffeebean.com>":
 In der zehnten Folge ihrer Serie «Don’t Forget The Poets» nehmen sich Chri
 stian Rösli (p) und Andreas Zitz (db) den grossen brasilianischen Komponis
 ten an. Dies bezieht sich auf die sogenannte Populärmusik MPB (música popu
 lar brasileira)\, die fast alle brasilianischen Musikstile eint\, ausser d
 er Klassik. Am bekanntesten sind Samba\, Bossa Nova\, Samba-Reggae\, Musik
  aus dem Nordosten Brasiliens und die Lieder der afrobrasilianischen Relig
 ionen (candomblé). Eine Besonderheit der MPB gegenüber nordamerikanischer 
 und europäischer Popmusik ist\, dass sie keine reine Jugendkultur ist\, so
 ndern von allen Altersschichten gehört wird.\nFür ihren Brasil-Abend konnt
 en Rösli und Zitz die Sängerin Jenny Chi begeistern. Die Schweizerin chine
 sischer Herkunft entdeckte den Bossa Nova Anfang der Neunzigerjahre erstma
 ls in der Schallplattensammlung ihres Vaters. Von da an war sie diesem Sti
 l Rio de Janeiros der 50er-Jahre verfallen\, lebte in Brasilien und nahm U
 nterricht in Gesang und Perkussion in Rio und São Paulo. Als Leadsängerin 
 trat Jenny Chi über die Jahre in zahlreichen Formationen in der Schweiz\, 
 Italien und Brasilien auf\, vor allem mit ihrer eigenen Band ChiBossa.\nWe
 iter wird das Trio durch den vielseitigen Basler Schlagzeuger Florian Haas
  verstärkt.\nJenny Chi (voc)\, Christian Rösli (p)\, Andreas Zitz (db)\, F
 lorian Haas (dr)\nhttps://www.jennychi.chhttps://andreaszitz.chhttps://www
 .instrumentor.ch/de/florian-haas
DTSTART:20220318T191500Z
DTEND:20220318T191500Z
GEO:00;0
LOCATION:
ORGANIZER:
SEQUENCE:1
SUMMARY:Don’t Forget The Poets #10 – «Poetas do Brasil»
TRANSP:OPAQUE
URL:https://www.esse.bar/index.php/veranstaltungen/vergangene-veranstaltung
 en/1545-2022-01-25-16-37-54/2022-03-18-20-15
END:VEVENT
END:VCALENDAR
