BEGIN:VCALENDAR
VERSION:2.0
PRODID:-//ESSE Musicbar Winterthur//NONSGML kigkonsult.se iCalcreator 2.41.92//
CALSCALE:GREGORIAN
METHOD:PUBLISH
UID:65376532-3366-4632-b932-376436396161
X-WR-CALNAME:iCagenda
X-WR-CALDESC:Event Management Extension for Joomla!
X-WR-RELCALID:3E26604A-50F4-4449-8B3E-E4F4932D05B5
X-WR-TIMEZONE:Europe/Zurich
BEGIN:VTIMEZONE
TZID:Europe/Zurich
TZUNTIL:20231029T010000Z
BEGIN:STANDARD
TZNAME:CET
DTSTART:20211031T030000
TZOFFSETFROM:+0200
TZOFFSETTO:+0100
RDATE:20221030T030000
END:STANDARD
BEGIN:DAYLIGHT
TZNAME:CEST
DTSTART:20220327T020000
TZOFFSETFROM:+0100
TZOFFSETTO:+0200
RDATE:20230326T020000
END:DAYLIGHT
END:VTIMEZONE
BEGIN:VEVENT
UID:66663037-3631-4637-b363-626166303361
DTSTAMP:20260419T230754Z
CATEGORIES:Jazz
CLASS:PUBLIC
DESCRIPTION;ALTREP="CID:<FFFF__=0ABBE548DFE235B58f9e8a93d@coffeebean.com>":
 Der Frühling ist da\, der Frühling ist daDie Welt ist grün\, die Sonne lac
 ht\, ich find das wunderbarDer Frühling ist da\, der Frühling ist daWenn V
 ögel singen\, ist für mich die schönste Zeit im JahrMorgens ist es wieder 
 hell\, abends scheint die SonneEndlich wieder draussen sein\, echte Frühli
 ngswonne!\n(aus «Der Frühling ist da» von Stephen Janetzko)\nDiesmal nehme
 n nehmen sich Christian Rösli (p) und Andreas Zitz (db) die schönste Zeit 
 des Jahres vor – den Frühling. Als Botschafterin dafür konnten die beiden 
 die Sängerin\, Pianistin und Komponistin Marianne Racine gewinnen. Die in 
 Zürich lebende Schwedin braucht wohl niemandem mehr vorgestellt werden. Un
 terstützt wird das illustre Trio an diesem Konzert vom vielseitigen Andrea
 s Wettstein am Schlagzeug (u.a. Troja\, The Lefties\, Roli Frei &amp\; The
  Soulful Desert).\nMarianne Racine (voc)\, Christian Rösli (p)\, Andreas Z
 itz (db)\, Andreas Wettstein (dr)\nhttp://www.racinevoc.chhttps://andreasz
 itz.ch
DTSTART:20220422T181500Z
DTEND:20220422T181500Z
GEO:00;0
LOCATION:
ORGANIZER:
SEQUENCE:1
SUMMARY:Don’t Forget The Poets #11 – «Spring is here!»
TRANSP:OPAQUE
URL:https://www.esse.bar/index.php/veranstaltungen/vergangene-veranstaltung
 en/1546-2022-01-25-16-37-55/2022-04-22-20-15
END:VEVENT
END:VCALENDAR
