BEGIN:VCALENDAR
VERSION:2.0
PRODID:-//ESSE Musicbar Winterthur//NONSGML kigkonsult.se iCalcreator 2.41.92//
CALSCALE:GREGORIAN
METHOD:PUBLISH
UID:34626332-6466-4262-b035-653634626135
X-WR-CALNAME:iCagenda
X-WR-CALDESC:Event Management Extension for Joomla!
X-WR-RELCALID:3E26604A-50F4-4449-8B3E-E4F4932D05B5
X-WR-TIMEZONE:Europe/Zurich
BEGIN:VTIMEZONE
TZID:Europe/Zurich
TZUNTIL:20240331T010000Z
BEGIN:STANDARD
TZNAME:CET
DTSTART:20211031T030000
TZOFFSETFROM:+0200
TZOFFSETTO:+0100
RDATE:20221030T030000
RDATE:20231029T030000
END:STANDARD
BEGIN:DAYLIGHT
TZNAME:CEST
DTSTART:20220327T020000
TZOFFSETFROM:+0100
TZOFFSETTO:+0200
RDATE:20230326T020000
END:DAYLIGHT
END:VTIMEZONE
BEGIN:VEVENT
UID:33616531-3230-4462-b334-633232373432
DTSTAMP:20260419T230243Z
CATEGORIES:Jazz
CLASS:PUBLIC
DESCRIPTION;ALTREP="CID:<FFFF__=0ABBE548DFE235B58f9e8a93d@coffeebean.com>":
 Diesmal befassen sich Christian Rösli (p) und Andreas Zitz (db) mit der Mu
 sik der «Jazz Messengers». Die Band unter Drummer Art Blakey gab es in vie
 len verschiedenen Zusammensetzungen. Ursprünglich waren sie von Blakey und
  Horace Silver gegründet worden. Als Silver zusammen mit Hank Mobley und D
 ough Watkins neue Wege ging\, übernahm Blakey den Bandnamen. Art Blakey fa
 nd immer wieder junge Talente\, die er in die Jazz Messengers integrierte:
  Clifford Brown\, Lou Donaldson\, Lee Morgan und Wayne Shorter\, um nur ei
 nige zu nennen. Aber auch mit Bobby Timmons und Benny Golson hatte Blakey 
 nicht nur hervorragende Musiker gewonnen\, sie lieferten dazu noch die Kom
 positionen\, die sich als Hits herausstellten. Bereits 1958 nahmen sie ein
 es der erfolgreichsten Jazz-Alben auf: «Moanin’» vereint eingängige Kompos
 itionen mit brillanten Soli – ein Meisterwerk von A bis Z. Begleitet werde
 n unsere beiden Hauptprotagonisten diesmal von Matthias Spillmann (tp)\, S
 ilvio Cadotsch (tb)\, Christian Münchinger (ts) und Christian Niederer (dr
 ). Freuen wir uns also auf ein tolles Bläser-Feuerwerk!\nMatthias Spillman
 n (tp)\, Silvio Cadotsch (tb)\, Christian Münchinger (ts\, Christian Rösli
  (p)\, Andreas Zitz (db)\, Christian Niederer (dr)\nhttp://matsup.chhttps:
 //www.zjo.ch/band/silvio-cadotsch/http://www.niederer.me
DTSTART:20220520T181500Z
DTEND:20220520T181500Z
GEO:00;0
LOCATION:
ORGANIZER:
SEQUENCE:1
SUMMARY:Don’t Forget The Poets #12 - 'THE JAZZ MESSENGERS'
TRANSP:OPAQUE
URL:https://www.esse.bar/index.php/veranstaltungen/vergangene-veranstaltung
 en/1547-2022-01-25-16-37-56/2022-05-20-20-15
END:VEVENT
END:VCALENDAR
