BEGIN:VCALENDAR
VERSION:2.0
PRODID:-//ESSE Musicbar Winterthur//NONSGML kigkonsult.se iCalcreator 2.41.92//
CALSCALE:GREGORIAN
METHOD:PUBLISH
UID:64626432-6663-4735-b835-303265656264
X-WR-CALNAME:iCagenda
X-WR-CALDESC:Event Management Extension for Joomla!
X-WR-RELCALID:3E26604A-50F4-4449-8B3E-E4F4932D05B5
X-WR-TIMEZONE:Europe/Zurich
BEGIN:VTIMEZONE
TZID:Europe/Zurich
TZUNTIL:20240331T010000Z
BEGIN:STANDARD
TZNAME:CET
DTSTART:20211031T030000
TZOFFSETFROM:+0200
TZOFFSETTO:+0100
RDATE:20221030T030000
RDATE:20231029T030000
END:STANDARD
BEGIN:DAYLIGHT
TZNAME:CEST
DTSTART:20220327T020000
TZOFFSETFROM:+0100
TZOFFSETTO:+0200
RDATE:20230326T020000
END:DAYLIGHT
END:VTIMEZONE
BEGIN:VEVENT
UID:63663431-6632-4266-b739-613436306130
DTSTAMP:20260419T230851Z
CATEGORIES:Jazz
CLASS:PUBLIC
DESCRIPTION;ALTREP="CID:<FFFF__=0ABBE548DFE235B58f9e8a93d@coffeebean.com>":
 Benny Golson wurde am 25. Januar 1929 in Philadelphia\, PA\, geboren und i
 st ein US-amerikanischer Tenorsaxophonist\, Koponist und Arrangeur des Har
 dbop. Golson ist mit einem tadellosen musikalischen Stammbaum aufgewachsen
  und hat in den Bands von Benny Goodman\, Dizzy Gillespie\, Lionel Hampton
 \, Earl Bostic und Art Blakey gespielt.\nNur wenige Jazzmusiker können von
  sich behaupten\, wahre Innovatoren zu sein\, und noch weniger können sich
  einer Auftritts- und Aufnahmekarriere rühmen\, die den Begriff „Jazz“ buc
 hstäblich neu definiert. Golson hat weit über 300 Kompositionen geschriebe
 n und Jazzstandards geschaffen wie z.B. «Blues March»\, «Whisper Not» oder
  «I Remember Clifford». Benny Golson ist der einzige lebende Jazzkünstler\
 , der 8 Standards für das Jazzrepertoire geschrieben hat. Diese Jazzstanda
 rds haben im Laufe der Jahre ihren Weg in unzählige internationale Aufnahm
 en gefunden und werden immer noch aufgenommen.\nEr hat über 30 Alben in de
 n USA und Europa unter seinem eigenen Namen und unzählige mit anderen bede
 utenden Künstlern aufgenommen. Seit mehr als 60 Jahren hat Golson eine gla
 nzvolle musikalische Karriere hinter sich\, in der er nicht nur Partituren
  von Aufnahmen gemacht\, sondern auch für unzählige Berühmtheiten Musik ko
 mponiert und arrangiert hat.\nSein produktives Schreiben umfasst Scores fü
 r erfolgreiche TV-Serien und Filme und er hat Musik für nationale Radio- u
 nd Fernsehspots für einige der grössten Werbeagenturen des Landes geschrie
 ben. Benny Golson beherrscht das Medium Jazz absolut. Er hat nicht nur ein
 en Weg in die Welt des Jazz geebnet\, sondern ist auch leidenschaftlich da
 ran interessiert\, Jung und Alt Jazz zu unterrichten. Er hat im Lincoln Ce
 nter durch eine spezielle Reihe von Wynton Marsalis Vorlesungen gehalten. 
 Er hielt Vorlesungen vor Doktoranden der New York University und der Fakul
 tät der National University in San Diego.\nGolsons musikalische Odyssee ha
 t ihn um die ganze Welt geführt. 1987 wurde er vom US State Department auf
  eine Kulturreise nach Südostasien\, Neuseeland\, Indonesien\, Malaysia\, 
 Burma\, Singapur geschickt. Später schickte ihn Philip Morris Internationa
 l nach Bangkok\, Thailand\, um Musik für das Bangkok Symphony Orchestra zu
  schreiben. Als Live-Performer\, der das Publikum immer wieder von den Füs
 sen reisst\, hat Benny Golson seit Jahrzehnten Hunderte von Auftritten in 
 den USA\, Europa\, Südamerika\, Fernost und Japan gegeben. Benny arbeitet 
 auch an einem großen College-Lehrbuch und seiner Autobiografie. Dieser bes
 cheidene Musikriese beeindruckt weiterhin Kritiker\, Fans und Musikerkolle
 gen mit seinen erstaunlichen Beiträgen zur Welt des Jazz.\nGemeinsam mit C
 hristoph Grab (s) und Maxime Paratte (dr) geben uns Christian Rösli (p) un
 d Andres Zitz (db) in der neuesten Folge von «Don’t Forget The Poets» Einb
 lick in das musikalische Schaffen dieses Jazz-Giganten.\nChristoph Grab (s
 )\, Christian Rösli (p)\, Andreas Zitz (db)\, Maxime Paratte (dr)\nhttps:/
 /www.christophgrab.com/de/https://andreaszitz.chhttps://www.maximeparatte.
 ch/index.html
DTSTART:20220617T181500Z
DTEND:20220617T181500Z
GEO:00;0
LOCATION:
ORGANIZER:
SEQUENCE:1
SUMMARY:Don’t Forget The Poets #13 – The Music Of Benny Golson feat. Christ
 oph Grab
TRANSP:OPAQUE
URL:https://www.esse.bar/index.php/veranstaltungen/vergangene-veranstaltung
 en/1548-2022-01-25-16-37-57/2022-06-17-20-15
END:VEVENT
END:VCALENDAR
