BEGIN:VCALENDAR
VERSION:2.0
PRODID:-//ESSE Musicbar Winterthur//NONSGML kigkonsult.se iCalcreator 2.41.92//
CALSCALE:GREGORIAN
METHOD:PUBLISH
UID:37356235-6439-4331-b661-306130616137
X-WR-CALNAME:iCagenda
X-WR-CALDESC:Event Management Extension for Joomla!
X-WR-RELCALID:3E26604A-50F4-4449-8B3E-E4F4932D05B5
X-WR-TIMEZONE:Europe/Zurich
BEGIN:VTIMEZONE
TZID:Europe/Zurich
TZUNTIL:20231029T010000Z
BEGIN:STANDARD
TZNAME:CET
DTSTART:20211031T030000
TZOFFSETFROM:+0200
TZOFFSETTO:+0100
RDATE:20221030T030000
END:STANDARD
BEGIN:DAYLIGHT
TZNAME:CEST
DTSTART:20210328T020000
TZOFFSETFROM:+0100
TZOFFSETTO:+0200
RDATE:20220327T020000
RDATE:20230326T020000
END:DAYLIGHT
END:VTIMEZONE
BEGIN:VEVENT
UID:36366436-3834-4336-b963-333139313230
DTSTAMP:20260420T003742Z
CATEGORIES:Jazz
CLASS:PUBLIC
DESCRIPTION;ALTREP="CID:<FFFF__=0ABBE548DFE235B58f9e8a93d@coffeebean.com>":
 Zwei Tenorsaxophone im Zusammenspiel mit Kontrabass und Schlagzeug verleih
 en dem Quartett seinen ganz eigenen\, lebendigen Charakter. Obwohl sich da
 s «Shane Quartet» an die Jazztradition anlehnt\, lässt es sich in keine Sc
 hublade stecken und kommt mit einer breiten Palette musikalischer Bilder u
 nd Eindrücke daher.\nVielschichtig sind die Einflüsse\, die die Band unter
  der Führung von Michael Gilsenan zu einer Einheit verarbeiten. Es ist imm
 er ein Miteinander\, ein aufeinander hören\, sich gegenseitig unterstützen
 \, zu Neuem anfeuern\, was sowohl in den improvisierten\, wie auch in den 
 komponierten Teilen zur Geltung kommt.\nAn verschiedenen Konzerten stiesse
 n die vier Musiker auf sehr gute Resonanz\; so feierten sie einen ersten g
 rossen Erfolg im April 2016 im deutschen Biberach\, als sie den internatio
 nalen Jazzpreis gewannen.\nGabriel Wenger (s)\, Michael Gilsenan (s\, comp
 )\, Jérémie Krüttli (db)\, Philipp Leibundgut (dr)\nwww.shanequartet.ch 
DTSTART:20220304T191500Z
DTEND:20220304T191500Z
GEO:00;0
LOCATION:
ORGANIZER:
SEQUENCE:1
SUMMARY:Shane Quartet
TRANSP:OPAQUE
URL:https://www.esse.bar/index.php/veranstaltungen/vergangene-veranstaltung
 en/1549-bassic-vibes-10/2022-03-04-20-15
END:VEVENT
END:VCALENDAR
