BEGIN:VCALENDAR
VERSION:2.0
PRODID:-//ESSE Musicbar Winterthur//NONSGML kigkonsult.se iCalcreator 2.41.92//
CALSCALE:GREGORIAN
METHOD:PUBLISH
UID:35323233-3039-4162-a331-343636313931
X-WR-CALNAME:iCagenda
X-WR-CALDESC:Event Management Extension for Joomla!
X-WR-RELCALID:3E26604A-50F4-4449-8B3E-E4F4932D05B5
X-WR-TIMEZONE:Europe/Zurich
BEGIN:VTIMEZONE
TZID:Europe/Zurich
TZUNTIL:20231029T010000Z
BEGIN:STANDARD
TZNAME:CET
DTSTART:20211031T030000
TZOFFSETFROM:+0200
TZOFFSETTO:+0100
RDATE:20221030T030000
END:STANDARD
BEGIN:DAYLIGHT
TZNAME:CEST
DTSTART:20210328T020000
TZOFFSETFROM:+0100
TZOFFSETTO:+0200
RDATE:20220327T020000
RDATE:20230326T020000
END:DAYLIGHT
END:VTIMEZONE
BEGIN:VEVENT
UID:31376431-6539-4562-a666-323633643531
DTSTAMP:20260420T003626Z
CATEGORIES:Blues
CLASS:PUBLIC
DESCRIPTION;ALTREP="CID:<FFFF__=0ABBE548DFE235B58f9e8a93d@coffeebean.com>":
 «aBlueser» sind vier erfahrene Musiker:innen und bringen satten Blues und 
 Rock aus den 70ern und 80ern auf unsere Bühne. Yeah\, da sind sie wieder\,
  die coolen Melodien\, die heissen Rhythmen und die starken Stimmen…\nErst
  2017 gegründet\, hat die Band schon an vielen Orten in der Schweiz ihr Kö
 nnen unter Beweis gestellt. Jetzt ist endlich auch Winterthur an der Reihe
 . Jetzt wird der gute alte Blues und auch Rockiges von diesem Quartett mit
  den schönsten Songs dieses Genres gesungen\, gespielt und gefeiert.\nDas 
 Repertoire umfasst so bekannte Songs wie «Black Velvet»\, «Black Cat Boogi
 e»\, «Red House»\, «Midnight Blues»\, «Got A Broken Heart»\, «Come Togethe
 r»\, «Proud Mary»\, «It’s A Dirty Job» und viele weitere Juwelen – und sel
 bstverständlich fehlen auch ein paar eigene Songs nicht!\n«aBlueser» biete
 n einen tollen Sound\, interessanten Gesang\, kreative Gitarren und natürl
 ich gute Stimmung – alles was es für eine richtige Blues-Party braucht. Mu
 sik aus Liebe und Leidenschaft!\nClaudia Da Rold (voc)\, Marek Kroskiewicz
  (g\, voc)\, Hape Schuwey (b\, voc)\, Fredi Hofmann (dr)\nhttps://www.ablu
 eser.eu/index.html
DTSTART:20220219T191500Z
DTEND:20220219T191500Z
GEO:00;0
LOCATION:
ORGANIZER:
SEQUENCE:1
SUMMARY:aBlueser
TRANSP:OPAQUE
URL:https://www.esse.bar/index.php/veranstaltungen/vergangene-veranstaltung
 en/1551-ablueser/2022-02-19-20-15
END:VEVENT
END:VCALENDAR
