BEGIN:VCALENDAR
VERSION:2.0
PRODID:-//ESSE Musicbar Winterthur//NONSGML kigkonsult.se iCalcreator 2.41.92//
CALSCALE:GREGORIAN
METHOD:PUBLISH
UID:32306264-3963-4233-b362-386366376631
X-WR-CALNAME:iCagenda
X-WR-CALDESC:Event Management Extension for Joomla!
X-WR-RELCALID:3E26604A-50F4-4449-8B3E-E4F4932D05B5
X-WR-TIMEZONE:Europe/Zurich
BEGIN:VTIMEZONE
TZID:Europe/Zurich
TZUNTIL:20231029T010000Z
BEGIN:STANDARD
TZNAME:CET
DTSTART:20211031T030000
TZOFFSETFROM:+0200
TZOFFSETTO:+0100
RDATE:20221030T030000
END:STANDARD
BEGIN:DAYLIGHT
TZNAME:CEST
DTSTART:20210328T020000
TZOFFSETFROM:+0100
TZOFFSETTO:+0200
RDATE:20220327T020000
RDATE:20230326T020000
END:DAYLIGHT
END:VTIMEZONE
BEGIN:VEVENT
UID:31306636-3631-4338-b863-633465316536
DTSTAMP:20260420T004656Z
CATEGORIES:Jazz
CLASS:PUBLIC
DESCRIPTION;ALTREP="CID:<FFFF__=0ABBE548DFE235B58f9e8a93d@coffeebean.com>":
 «Die Söldner der verrückten Liebe» sind eine ausgefuchste Live Jazz Band. 
 Als gefragte Einzelkämpfer trifft man sie in verschiedensten Formationen\,
  die von Big Band bis zu Vertonung von Kunst und Literatur reichen.\nAls T
 rio haben sich Martin Medimorec (mallets)\, Christian Bucher (drums) und M
 atthias Reinhard-DeRoo (bass) vor Jahren gefunden\, um – ohne es zu merken
  – einen eigenen Stil zu prägen\, der sich vom Geist des Blues getragen in
  freie Rhythmen\, Melodien und Harmonien vorwagt\, manchmal wild und frech
 \, manchmal lieblich und verlangend.\nIhre Songs versehen sie mit Titeln w
 ie «Les bisquits oubliés»\, «Chueli luege» oder «The Goodness She Feels». 
 Solche Titel verführen das Publikum in verspielter Weise in die Musik\, di
 e diese drei Musketiere\, die jedes Lied nur einmal spielen\, schaffen.\nM
 artin Medimorec (vib)\, Matthias Reinhard-DeRoo (db)\, Christian Bucher (d
 r)\nYouTube soundcloud.com\nhttps://www.lesmercenairesdelamourfou.com
DTSTART:20220317T191500Z
DTEND:20220317T191500Z
GEO:00;0
LOCATION:
ORGANIZER:
SEQUENCE:1
SUMMARY:Les Mercenaires des L’Amour Fou
TRANSP:OPAQUE
URL:https://www.esse.bar/index.php/veranstaltungen/vergangene-veranstaltung
 en/1552-les-mercenaires-des-l-amour-fou/2022-03-17-20-15
END:VEVENT
END:VCALENDAR
