BEGIN:VCALENDAR
VERSION:2.0
PRODID:-//ESSE Musicbar Winterthur//NONSGML kigkonsult.se iCalcreator 2.41.92//
CALSCALE:GREGORIAN
METHOD:PUBLISH
UID:36613936-3235-4133-a536-353964383661
X-WR-CALNAME:iCagenda
X-WR-CALDESC:Event Management Extension for Joomla!
X-WR-RELCALID:3E26604A-50F4-4449-8B3E-E4F4932D05B5
X-WR-TIMEZONE:Europe/Zurich
BEGIN:VTIMEZONE
TZID:Europe/Zurich
TZUNTIL:20231029T010000Z
BEGIN:STANDARD
TZNAME:CET
DTSTART:20211031T030000
TZOFFSETFROM:+0200
TZOFFSETTO:+0100
RDATE:20221030T030000
END:STANDARD
BEGIN:DAYLIGHT
TZNAME:CEST
DTSTART:20220327T020000
TZOFFSETFROM:+0100
TZOFFSETTO:+0200
RDATE:20230326T020000
END:DAYLIGHT
END:VTIMEZONE
BEGIN:VEVENT
UID:35346139-3935-4336-b439-363266653064
DTSTAMP:20260420T003558Z
CATEGORIES:Folk & More
CLASS:PUBLIC
DESCRIPTION;ALTREP="CID:<FFFF__=0ABBE548DFE235B58f9e8a93d@coffeebean.com>":
 Nachdem die Sängerin Simone Wiser das Instrumental-Stück «Those Wings Arou
 nd You» vom Gitarristen Attila Vural hörte und spontan einen Text dazu sch
 rieb\, trafen sich die beiden zu einer ersten Jam Session.\nPrompt entstan
 d ein Repertoire mit einer Auswahl aus Eigenkompositionen und aus Klassike
 rn von u.a. Bob Dylan\, Sting\, Bobby Hebb und auch aus aktuelleren Songs 
 von Gnarls Barkley oder Tones and I.\nDie Arrangements der Songs klingen d
 ank dem orchestralen Gitarrenspiel mit ausgefeilter Spieltechnik und der k
 raftvollen und anschmiegsamen Stimme erfrischend und bereichernd. So öffne
 t sich ein neues Universum an Möglichkeiten des Zusammenspiels von Gitarre
  und Stimme im Genre Guitar-Vocal-Duo.\nSimone Wiser (voc)\, Attila Vural 
 (g\, harp\, voc)\nhttps://www.lavural.ch
DTSTART:20220410T173000Z
DTEND:20220410T173000Z
GEO:00;0
LOCATION:
ORGANIZER:
SEQUENCE:1
SUMMARY:Attila Vural & Simone Wiser
TRANSP:OPAQUE
URL:https://www.esse.bar/index.php/veranstaltungen/vergangene-veranstaltung
 en/1554-attila-vural-simone-wiser/2022-04-10-19-30
END:VEVENT
END:VCALENDAR
