BEGIN:VCALENDAR
VERSION:2.0
PRODID:-//ESSE Musicbar Winterthur//NONSGML kigkonsult.se iCalcreator 2.41.92//
CALSCALE:GREGORIAN
METHOD:PUBLISH
UID:39346264-3330-4630-b938-356338376238
X-WR-CALNAME:iCagenda
X-WR-CALDESC:Event Management Extension for Joomla!
X-WR-RELCALID:3E26604A-50F4-4449-8B3E-E4F4932D05B5
X-WR-TIMEZONE:Europe/Zurich
BEGIN:VTIMEZONE
TZID:Europe/Zurich
TZUNTIL:20231029T010000Z
BEGIN:STANDARD
TZNAME:CET
DTSTART:20211031T030000
TZOFFSETFROM:+0200
TZOFFSETTO:+0100
RDATE:20221030T030000
END:STANDARD
BEGIN:DAYLIGHT
TZNAME:CEST
DTSTART:20220327T020000
TZOFFSETFROM:+0100
TZOFFSETTO:+0200
RDATE:20230326T020000
END:DAYLIGHT
END:VTIMEZONE
BEGIN:VEVENT
UID:39376662-6262-4235-a133-376164623162
DTSTAMP:20260420T003604Z
CATEGORIES:Jazz
CLASS:PUBLIC
DESCRIPTION;ALTREP="CID:<FFFF__=0ABBE548DFE235B58f9e8a93d@coffeebean.com>":
 «Benny’s from Heaven» ist zweideutig zu interpretieren\, zum einen ist der
  Bandname eine Anspielung an den Jazzsong und den gleichnamigen Film «Penn
 ies from Heaven» von und mit Bing Crosby.\nZum anderen war Benny Goodman d
 er King of Swing\, und dem Repertoire\, welches er zu spielen pflegte\, ha
 t sich diese Band mit grosser Leidenschaft verschrieben\, um diese grossar
 tige Musik wieder aufleben zu lassen.\nUnvergessliche Nummern wie «Stompin
 ’ at the Savoy»\, «Lady Be Good»\, «Memories of You» und viele mehr. Ein O
 hrenschmaus der Extraklasse\, let’s dance!\nSimon Wyrsch (cl)\, Dave Ruosc
 h (p)\, Kalli Gerhards (db)\, Martin Meyer (dr)\nwww.simonwyrsch.ch
DTSTART:20220421T181500Z
DTEND:20220421T181500Z
GEO:00;0
LOCATION:
ORGANIZER:
SEQUENCE:1
SUMMARY:Benny’s from Heaven
TRANSP:OPAQUE
URL:https://www.esse.bar/index.php/veranstaltungen/vergangene-veranstaltung
 en/1555-benny-s-from-heaven/2022-04-21-20-15
END:VEVENT
END:VCALENDAR
