BEGIN:VCALENDAR
VERSION:2.0
PRODID:-//ESSE Musicbar Winterthur//NONSGML kigkonsult.se iCalcreator 2.41.92//
CALSCALE:GREGORIAN
METHOD:PUBLISH
UID:34373333-3764-4532-b265-376633336239
X-WR-CALNAME:iCagenda
X-WR-CALDESC:Event Management Extension for Joomla!
X-WR-RELCALID:3E26604A-50F4-4449-8B3E-E4F4932D05B5
X-WR-TIMEZONE:Europe/Zurich
BEGIN:VTIMEZONE
TZID:Europe/Zurich
TZUNTIL:20231029T010000Z
BEGIN:STANDARD
TZNAME:CET
DTSTART:20211031T030000
TZOFFSETFROM:+0200
TZOFFSETTO:+0100
RDATE:20221030T030000
END:STANDARD
BEGIN:DAYLIGHT
TZNAME:CEST
DTSTART:20210328T020000
TZOFFSETFROM:+0100
TZOFFSETTO:+0200
RDATE:20220327T020000
RDATE:20230326T020000
END:DAYLIGHT
END:VTIMEZONE
BEGIN:VEVENT
UID:62393363-3938-4465-b165-623636383165
DTSTAMP:20260420T004006Z
CATEGORIES:Folk & More
CLASS:PUBLIC
DESCRIPTION;ALTREP="CID:<FFFF__=0ABBE548DFE235B58f9e8a93d@coffeebean.com>":
 Vier erlesene Songwriter:innen teilen sich eine Bühne. Das Programm zeigt 
 sich schön auswogen und auch im Bezug auf die Geschlechter ausgeglichen: z
 wei Männer\, zwei Frauen\, vereint einzig im stilistischen Soundkleid\, da
 s man weitgehend als Americana oder eben Singer/Songwriter bezeichnet. All
 e vier waren schon mehrmals in der ESSE Musicbar zu Gast\, nun aber erstma
 ls gemeinsam.\nBeth Wimmer (USA / Schwarzsee) Aufgewachsen im ländlichen M
 assachusetts\, entdeckte Beth Wimmer schon früh ihre Liebe zu der Musik\, 
 die man heute gemeinhin als 'Americana' bezeichnet. Im Alter von 18 Jahren
  zog die junge Künstlerin in den pulsierenden musikalischen Schmelztiegel 
 Südkalifornien. Seit dreizehn Jahren lebt Beth Wimmer in der Schweiz\, wo 
 sie sich als eigenständige Singer/Songwriterin etabliert hat und bereits a
 uf einigen der renommiertesten Bühnen des Landes aufgetreten ist. https://
 bethwimmer.com/\nAlex Good (Frauenfeld) war während knapp 20 Jahren als Si
 deman in diversen Bands unterschiedlicher Stilrichtungen zu hören. Good is
 t auch als Solokünstler mit Akustikgitarre unterwegs und unterstreicht dam
 it seine Qualitäten als Singer/Songwriter. Rock trifft auf Blues-Rock und 
 Classic Rock mit einer Prise Americana. https://www.alexgood.ch/\nBettina 
 Schelker (Basel) ist widerspenstig im Sinne des Mainstreams – doch ihre Fa
 ngemeinde schätzt das oft sehr intime\, melancholische und ehrliche Wesen 
 ihrer Songs. Sie bleibt Rockerin\, Aktivistin\, Poetin\, on the road\, una
 bhängig und frei im Geist. Mit dramatischen Songs aus ihrem neuen Konzepta
 lbum “Anonymous' https://bettinaschelker.com/\nPink Pedrazzi (Basel) Seit 
 vielen Jahren zaubert er mit herausragender Stimme\, Gitarre\, Mandoline\,
  Ukulele und wunderschönen Songs\, ein Stück Americana aus seinem grossen 
 schwarzen Zylinder. Pink Pedrazzi hat schon viele Karten gespielt und präg
 te mit Bands wie den Zodiacs\, der Moondog Show oder den Voyageurs die Sch
 weizer Musikszene. Zwei EP’s mit je 5 Songs\, „The Island“ und „Carry On“ 
 sind 2020 und 2021 erschienen und werden live vorgestellt. https://www.pin
 kpedrazzi.ch/
DTSTART:20220320T183000Z
DTEND:20220320T183000Z
GEO:00;0
LOCATION:
ORGANIZER:
SEQUENCE:1
SUMMARY:Songwriters in the Round
TRANSP:OPAQUE
URL:https://www.esse.bar/index.php/veranstaltungen/vergangene-veranstaltung
 en/1558-songwriters-in-the-round/2022-03-20-19-30
END:VEVENT
END:VCALENDAR
