BEGIN:VCALENDAR
VERSION:2.0
PRODID:-//ESSE Musicbar Winterthur//NONSGML kigkonsult.se iCalcreator 2.41.92//
CALSCALE:GREGORIAN
METHOD:PUBLISH
UID:31616364-6361-4433-b665-373266633130
X-WR-CALNAME:iCagenda
X-WR-CALDESC:Event Management Extension for Joomla!
X-WR-RELCALID:3E26604A-50F4-4449-8B3E-E4F4932D05B5
X-WR-TIMEZONE:Europe/Zurich
BEGIN:VTIMEZONE
TZID:Europe/Zurich
TZUNTIL:20231029T010000Z
BEGIN:STANDARD
TZNAME:CET
DTSTART:20211031T030000
TZOFFSETFROM:+0200
TZOFFSETTO:+0100
RDATE:20221030T030000
END:STANDARD
BEGIN:DAYLIGHT
TZNAME:CEST
DTSTART:20210328T020000
TZOFFSETFROM:+0100
TZOFFSETTO:+0200
RDATE:20220327T020000
RDATE:20230326T020000
END:DAYLIGHT
END:VTIMEZONE
BEGIN:VEVENT
UID:31323563-3437-4561-b637-313561653737
DTSTAMP:20260420T003430Z
CATEGORIES:Jazz
CLASS:PUBLIC
DESCRIPTION;ALTREP="CID:<FFFF__=0ABBE548DFE235B58f9e8a93d@coffeebean.com>":
 Diese ungewöhnliche und dadurch auch anspruchsvolle Besetzung bietet eine 
 grosse Vielfalt an Klangfarben und Strukturen von kammermusikalischer Tran
 sparenz bis zu einer fast orchestralen Dichte\, lässt aber auch genügend P
 latz für spontanes Interplay.\nDas kollektiv geleitete Trio praktiziert ei
 ne eigenständige\, kompromisslos undogmatische\, melodische und emotional 
 authentische Lesart des modernen Jazz. Gemeinsam ist den Musikern die Such
 e nach dem Kern der Melodie und das Vertrauen auf die Intuition im Moment.
 \nMichael Beck (p)\, Domenic Landolf (ts\, bcl)\, Arne Huber (db)\nhttp://
 michaelbeck.chhttp://www.domeniclandolf.comhttp://www.arnehuber.de\n(Jorge
  Rossy (vib\, dr) fällt krankheitshalber aus https://jorgerossy.com)
DTSTART:20220324T191500Z
DTEND:20220324T191500Z
GEO:00;0
LOCATION:
ORGANIZER:
SEQUENCE:1
SUMMARY:Aphorism Trio
TRANSP:OPAQUE
URL:https://www.esse.bar/index.php/veranstaltungen/vergangene-veranstaltung
 en/1559-aphorism-quartet/2022-03-24-20-15
END:VEVENT
END:VCALENDAR
