BEGIN:VCALENDAR
VERSION:2.0
PRODID:-//ESSE Musicbar Winterthur//NONSGML kigkonsult.se iCalcreator 2.41.92//
CALSCALE:GREGORIAN
METHOD:PUBLISH
UID:63613762-3838-4735-b361-343832663765
X-WR-CALNAME:iCagenda
X-WR-CALDESC:Event Management Extension for Joomla!
X-WR-RELCALID:3E26604A-50F4-4449-8B3E-E4F4932D05B5
X-WR-TIMEZONE:Europe/Zurich
BEGIN:VTIMEZONE
TZID:Europe/Zurich
TZUNTIL:20231029T010000Z
BEGIN:STANDARD
TZNAME:CET
DTSTART:20211031T030000
TZOFFSETFROM:+0200
TZOFFSETTO:+0100
RDATE:20221030T030000
END:STANDARD
BEGIN:DAYLIGHT
TZNAME:CEST
DTSTART:20220327T020000
TZOFFSETFROM:+0100
TZOFFSETTO:+0200
RDATE:20230326T020000
END:DAYLIGHT
END:VTIMEZONE
BEGIN:VEVENT
UID:37333331-3932-4636-a132-363837623636
DTSTAMP:20260419T231044Z
CATEGORIES:Jazz
CLASS:PUBLIC
DESCRIPTION;ALTREP="CID:<FFFF__=0ABBE548DFE235B58f9e8a93d@coffeebean.com>":
 Das «Gisela Horat Trio» besteht seit dem Frühling 2009. Seit Mai 2015 spie
 len der Schlagzeuger Samuel Büttiker und der Bassist Simon Iten zusammen m
 it Gisela Horat.\nDas Trio erzählt in seinem Programm musikalische Geschic
 hten\, die das Leben in all seinen Schattierungen schrieb. Ausgehend von m
 usikalischen Skizzen und komponierten Liedern der Pianistin\, entstehen sp
 annende Begegnungen zwischen Komposition und Improvisation\, die geprägt s
 ind durch die unterschiedlichen Erfahrungs-Welten der einzelnen Musiker.\n
 Mit klangmalerisch jazzigen Harmonien beschreiben sie in lyrisch grooviger
  Weise farbige und spannende Begebenheiten\, Träume\, Gefühle und Schicksa
 le. Das Trio hat inzwischen seine vierte CD veröffentlicht.\nGisela Horat 
 (p\, comp)\, Simon Iten (db)\, Samuel Büttiker (dr)\nhttps://www.gisela-ho
 rat.ch/index.php/de/
DTSTART:20220428T181500Z
DTEND:20220428T181500Z
GEO:00;0
LOCATION:
ORGANIZER:
SEQUENCE:1
SUMMARY:Gisela Horat Trio
TRANSP:OPAQUE
URL:https://www.esse.bar/index.php/veranstaltungen/vergangene-veranstaltung
 en/1560-gisela-horat-trio/2022-04-28-20-15
END:VEVENT
END:VCALENDAR
