BEGIN:VCALENDAR
VERSION:2.0
PRODID:-//ESSE Musicbar Winterthur//NONSGML kigkonsult.se iCalcreator 2.41.92//
CALSCALE:GREGORIAN
METHOD:PUBLISH
UID:39343064-3531-4665-b136-313330343165
X-WR-CALNAME:iCagenda
X-WR-CALDESC:Event Management Extension for Joomla!
X-WR-RELCALID:3E26604A-50F4-4449-8B3E-E4F4932D05B5
X-WR-TIMEZONE:Europe/Zurich
BEGIN:VTIMEZONE
TZID:Europe/Zurich
TZUNTIL:20231029T010000Z
BEGIN:STANDARD
TZNAME:CET
DTSTART:20211031T030000
TZOFFSETFROM:+0200
TZOFFSETTO:+0100
RDATE:20221030T030000
END:STANDARD
BEGIN:DAYLIGHT
TZNAME:CEST
DTSTART:20220327T020000
TZOFFSETFROM:+0100
TZOFFSETTO:+0200
RDATE:20230326T020000
END:DAYLIGHT
END:VTIMEZONE
BEGIN:VEVENT
UID:37326236-6662-4334-b230-623634343365
DTSTAMP:20260420T003424Z
CATEGORIES:Jazz
CLASS:PUBLIC
DESCRIPTION;ALTREP="CID:<FFFF__=0ABBE548DFE235B58f9e8a93d@coffeebean.com>":
 Diese Band hat alles\, was das Jazz-Herz begehrt: Intensität\, Schönheit\,
  Spielfreude\, ekstatische Höhenflüge. Dieser Sound. Diese Dichte. Diese s
 üffigen Themen und wie atemberaubend sie verwandelt werden. Stellenweise e
 rinnert die Musik an den expressiven Jazz von John Coltrane und an andere 
 energetische Transformatoren.\nDer Berner Bänz Oester war viele Jahre vor 
 allem als herausragender Kontrabassist und Sideman bekannt. Er hatte immer
  mal wieder eigene Bands\, doch mit «The Rainmakers» hat er einen Coup gel
 andet. Die Idee entstand\, als er 2011 mit Andreas Schaerer an einem Festi
 val in Südafrika auftrat. Dort lernte er den Pianisten Afrika Mkhize kenne
 n und begegnete dem Schlagzeuger Ayanda Sikade wieder. Bei ihren Jams entd
 eckten sie\, wie ausgezeichnet sie einander verstanden. Der spanische Teno
 rsaxophonist Javier Vercher macht mit seinem erdigen Sound und seiner unbä
 ndigen Improvisationskraft das Quartett perfekt.\n«Bänz Oester &amp\; The 
 Rainmakers» spielen keine vertrackten Konzepte\, sondern lassen es fliesse
 n. Oft sind es einfache Melodien\, die einen thematischen Ausgangspunkt bi
 lden und dann furios weitergetrieben werden.\nAlso – auf ein Neues!\nJavie
 r Vercher (ts)\, Afrika Mkhize (p)\, Bänz Oester (db)\, Ayanda Sikade (dr)
 \nwww.rainmakers.info
DTSTART:20220407T181500Z
DTEND:20220407T181500Z
GEO:00;0
LOCATION:
ORGANIZER:
SEQUENCE:1
SUMMARY:Bänz Oester & The Rainmakers
TRANSP:OPAQUE
URL:https://www.esse.bar/index.php/veranstaltungen/vergangene-veranstaltung
 en/1561-baenz-oester-the-rainmakers/2022-04-07-20-15
END:VEVENT
END:VCALENDAR
