BEGIN:VCALENDAR
VERSION:2.0
PRODID:-//ESSE Musicbar Winterthur//NONSGML kigkonsult.se iCalcreator 2.41.92//
CALSCALE:GREGORIAN
METHOD:PUBLISH
UID:38633261-3031-4233-b438-333061613639
X-WR-CALNAME:iCagenda
X-WR-CALDESC:Event Management Extension for Joomla!
X-WR-RELCALID:3E26604A-50F4-4449-8B3E-E4F4932D05B5
X-WR-TIMEZONE:Europe/Zurich
BEGIN:VTIMEZONE
TZID:Europe/Zurich
TZUNTIL:20231029T010000Z
BEGIN:STANDARD
TZNAME:CET
DTSTART:20211031T030000
TZOFFSETFROM:+0200
TZOFFSETTO:+0100
RDATE:20221030T030000
END:STANDARD
BEGIN:DAYLIGHT
TZNAME:CEST
DTSTART:20220327T020000
TZOFFSETFROM:+0100
TZOFFSETTO:+0200
RDATE:20230326T020000
END:DAYLIGHT
END:VTIMEZONE
BEGIN:VEVENT
UID:62633032-6261-4438-a566-633937333334
DTSTAMP:20260420T003926Z
CATEGORIES:Jazz
CLASS:PUBLIC
DESCRIPTION;ALTREP="CID:<FFFF__=0ABBE548DFE235B58f9e8a93d@coffeebean.com>":
 Eines ist sicher: Das Duo «Essenza» mit Isabelle Bodenseh (Querflöten) und
  Lorenzo Petrocca (Gitarre) darf mit seinem Programm «Jazz à la flute» vol
 ler leidenschaftlicher\, virtuoser\, mit Witz und Passion gespielter Musik
  zu einem der aussergewöhnlichsten in der aktuellen Jazzlandschaft gezählt
  werden. Ob Eigenkompositionen\, Jazzstandards oder Stücke\, die als Weltk
 ulturerbe angesehen werden\, die Musik entwickelt sich bei jedem Konzert i
 mmer faszinierend anders\, denn die musikalische Kommunikation der beiden 
 Instrumentalisten ist hörbar einmalig und eng verwoben. Das Publikum erleb
 t schon während des ersten Stückes\, mit welcher Intensität\, Hingabe und 
 grossem Entwicklungsreichtum die kongenialen Partner zusammenspielen. So e
 ntstehen aus den Kompositionen musikalische Abenteuer\, die sowohl die Mus
 iker selbst\, als auch das Publikum mitreissen.\nDie temperamentvolle Halb
 französin Isabelle Bodenseh (Dozentin für Jazzquerflöte an der Musikhochsc
 hule Frankfurt) bringt durch ihre immense flötistische Erfahrung in zahlre
 ichen Projekten\, im Bereich Studioaufnahmen und langen Studienaufenthalte
 n in Frankfurt\, Los Angeles und Havanna (einjähriges DAAD Stipendium) ein
 en riesigen Fundus an Klangmöglichkeiten mit. Egal ob Jazzgrössen wie Rich
 ie Beirach und Michael Sagmeister oder bekannte klassische Ensembles wie L
 a Serena oder Verquer\, sie alle überzeugt Isabelle Bodenseh mit ihrem sti
 lsicheren und sehr persönlichen Sound.\nDie enorme Erfahrung von Lorenzo P
 etrocca ist durch weltweite Tourneen und unzählige CD Aufnahmen belegt. 20
 01 wurde ihm während einer Amerika Tournee die Ehrenbürgerschaft der Stadt
  New Orleans verliehen. Noch heute wundern sich Weggefährten wie Peter Her
 bolzheimer\, Anne Sophie Mutter oder Monty Alexander\, über seine ausserge
 wöhnliche Entwicklung vom Boxer (1981 württembergischer Box-Meister) zum S
 pitzengitarrist.\nIsabelle Bodenseh (fl)\, Lorenzo Petrocca (g)\nhttps://w
 ww.isabellebodenseh.de/duo-essenza/https://lorenzopetrocca.de/bands/essenz
 a.html
DTSTART:20220414T181500Z
DTEND:20220414T181500Z
GEO:00;0
LOCATION:
ORGANIZER:
SEQUENCE:1
SUMMARY:Isabelle Bodenseh & Lorenzo Petrocca – Jazz à la flute
TRANSP:OPAQUE
URL:https://www.esse.bar/index.php/veranstaltungen/vergangene-veranstaltung
 en/1562-isabelle-bodenseh-lorenzo-petrocca-jazz-a-la-flute/2022-04-14-20-1
 5
END:VEVENT
END:VCALENDAR
