BEGIN:VCALENDAR
VERSION:2.0
PRODID:-//ESSE Musicbar Winterthur//NONSGML kigkonsult.se iCalcreator 2.41.92//
CALSCALE:GREGORIAN
METHOD:PUBLISH
UID:65353231-3861-4330-b239-646538663463
X-WR-CALNAME:iCagenda
X-WR-CALDESC:Event Management Extension for Joomla!
X-WR-RELCALID:3E26604A-50F4-4449-8B3E-E4F4932D05B5
X-WR-TIMEZONE:Europe/Zurich
BEGIN:VTIMEZONE
TZID:Europe/Zurich
TZUNTIL:20231029T010000Z
BEGIN:STANDARD
TZNAME:CET
DTSTART:20211031T030000
TZOFFSETFROM:+0200
TZOFFSETTO:+0100
RDATE:20221030T030000
END:STANDARD
BEGIN:DAYLIGHT
TZNAME:CEST
DTSTART:20210328T020000
TZOFFSETFROM:+0100
TZOFFSETTO:+0200
RDATE:20220327T020000
RDATE:20230326T020000
END:DAYLIGHT
END:VTIMEZONE
BEGIN:VEVENT
UID:35653935-6664-4666-b665-653062363465
DTSTAMP:20260420T003927Z
CATEGORIES:Swing'n'Jazz
CLASS:PUBLIC
DESCRIPTION;ALTREP="CID:<FFFF__=0ABBE548DFE235B58f9e8a93d@coffeebean.com>":
 Die speziell zusammengestellte Formation «Jazzin’Fusion» widmet sich dem T
 raditional Jazz\, dem frühen Swing der 30er-40er Jahre und zelebriert imme
 r wieder den Blues. So wechseln sich Klassiker des American Song-Books mit
  Ohrwürmern des Dixielands ab und bringen so die Füsse zum Wippen und die 
 Herzen zum Klopfen.\nDie mit Musikern aus der Bodenseeregion top besetzte 
 Jazzband absolviert gleich drei Konzerte an einem Wochenende: Am Samstag\,
  26. Februar in der «Hagschnurer Schüür» in Hüttwilen (16:00)\, am Sonntag
 \, 27. Februar am Jazz-Brunch im «Erlesenes» in Frauenfeld (10:30) und zum
  Abschluss abends bei uns in der ESSE in Winterthur (19:30).\nMit vollem D
 rive und Improvisationsfreude begeistert die mit ihrem Groove und ihren In
 terpretationen. Drei Musiker in der Frontline sorgen für den swingenden Gr
 oove\,die drei anderen in der Backline kümmern sich um das rhythmisch vibr
 ierende und pulsierende Fundament. Mit dabei sind u.a. der Shooting-Star T
 hiemo Niesterok an der Trompete\, Paul G. Ulrich – langjähriger Bassist be
 i Paul Kuhn – und der bestens bekannte Patrick Manzecchi am Schlagzeug. Di
 e «Jazzin’Fusion» webt einen Klangteppich\, der die Bandmitglieder immer w
 ieder zu solistischen Höhenflügen antreibt. Evergreens in einem neuen\, mo
 dernen Kleid. Frisch\, eindrücklich\, anziehend und unterhaltsam.\nThiemo 
 Niesterok (tp)\, Stephan Aschenbrenner (cl\, s)\, Joachim Tillmanns (tb\, 
 voc)\, Berthold Klein (g)\, Paul G. Ulrich (b)\, Patrick Manzecchi (dr)\nw
 ww.jazzinfusion.ch\n\nThimo Niesterok (*1996) wuchs am Bodensee auf und le
 bt seit 2015 in Köln. Er studierte an der Hochschule für Musik und Tanz Kö
 ln bei Andy Haderer und Matthias Bergmann Jazz-Trompete und ist nun als fr
 eischaffender Musiker auf Konzertbühnen in Deutschland sowie international
  zu hören. So tourte er z.B. nach Schweden\, Indien\, Südkorea (im Rahmen 
 der Olympischen Winterspiele 2018) und als Preisträger des Kobe Jazz Stree
 t Awards zum Kobe Jazz Street Festival nach Japan. Niesteroks musikalische
 r Schwerpunkt ist der Traditionelle Jazz und Swing.\n2017 erschien sein er
 stes Album „First Clambake“. 2019 folgte gemeinsam mit der Posaunen- Legen
 de Dan Barrett (USA) das Album „Two Talkin‘ Horns“.Niesterok arbeitete ber
 eits mit namenhaften Künstler*innen wie Dan Barrett\, Nicki Parrott\, Enge
 lbert Wrobel\, Chris Hopkins\, Thilo Wagner\, Frank Roberscheuten\, Emil M
 angelsdorff\, Henning Gailing\, u.v.m.
DTSTART:20220227T183000Z
DTEND:20220227T183000Z
GEO:00;0
LOCATION:
ORGANIZER:
SEQUENCE:1
SUMMARY:Jazzin'Fusion feat. Thimo Niesterok
TRANSP:OPAQUE
URL:https://www.esse.bar/index.php/veranstaltungen/vergangene-veranstaltung
 en/1563-jazzin-fusion-feat-thimo-niesterok/2022-02-27-19-30
END:VEVENT
END:VCALENDAR
