BEGIN:VCALENDAR
VERSION:2.0
PRODID:-//ESSE Musicbar Winterthur//NONSGML kigkonsult.se iCalcreator 2.41.92//
CALSCALE:GREGORIAN
METHOD:PUBLISH
UID:65363934-3630-4332-b931-363338666334
X-WR-CALNAME:iCagenda
X-WR-CALDESC:Event Management Extension for Joomla!
X-WR-RELCALID:3E26604A-50F4-4449-8B3E-E4F4932D05B5
X-WR-TIMEZONE:Europe/Zurich
BEGIN:VTIMEZONE
TZID:Europe/Zurich
TZUNTIL:20240331T010000Z
BEGIN:STANDARD
TZNAME:CET
DTSTART:20211031T030000
TZOFFSETFROM:+0200
TZOFFSETTO:+0100
RDATE:20221030T030000
RDATE:20231029T030000
END:STANDARD
BEGIN:DAYLIGHT
TZNAME:CEST
DTSTART:20220327T020000
TZOFFSETFROM:+0100
TZOFFSETTO:+0200
RDATE:20230326T020000
END:DAYLIGHT
END:VTIMEZONE
BEGIN:VEVENT
UID:64616338-3932-4163-a266-666462623962
DTSTAMP:20260419T232852Z
CATEGORIES:Jazz
CLASS:PUBLIC
DESCRIPTION;ALTREP="CID:<FFFF__=0ABBE548DFE235B58f9e8a93d@coffeebean.com>":
 Thomas Banholzer war ein Urgestein der Konstanzer Musikszene und ist Anfan
 g März von uns gegangen. Er war u.a. treibende Kraft und Bandleader der Ja
 zz-Formation «Soul Eyes». Bis zuletzt war Thomas aktiv und hatte geplant\,
  ein neues Bandmitglied in die Gruppe einzubauen. So sollte die Band künft
 ig mit dem Saxophonisten Volker Wagner verstärkt werden.\nSeine Mitmusiker
  haben sich nun entschlossen\, das Konzert in Gedenken an Thomas stattfind
 en zu lassen. Eine Band\, die spielt\, was „Tom“ und seinen Mitmusikern se
 it jeher am Herzen liegt und in den Fingern juckt: Soulig-bluesiger Jazz m
 it Kompositionen und Standards von Cannonball Adderley\, Eddie Harris\, Ma
 ceo Parker\, Dexter Gordon u.a.\nKlaus Knöpfle (ts)\, Volker Wagner (as)\,
  Thomas Schwabe (p\, keyb)\, Pit Drefahl (b)\, Martin Deufel (dr)\nhttps:/
 /www.tombanholzermusic.com\n(Photo Copyright: Helmut Bär)\n 
DTSTART:20220513T181500Z
DTEND:20220513T181500Z
GEO:00;0
LOCATION:
ORGANIZER:
SEQUENCE:1
SUMMARY:«Soul Eyes» zum Gedenken an Thomas Banholzer
TRANSP:OPAQUE
URL:https://www.esse.bar/index.php/veranstaltungen/vergangene-veranstaltung
 en/1564-soul-eyes/2022-05-13-20-15
END:VEVENT
END:VCALENDAR
