BEGIN:VCALENDAR
VERSION:2.0
PRODID:-//ESSE Musicbar Winterthur//NONSGML kigkonsult.se iCalcreator 2.41.92//
CALSCALE:GREGORIAN
METHOD:PUBLISH
UID:37343535-6266-4535-b662-663433626365
X-WR-CALNAME:iCagenda
X-WR-CALDESC:Event Management Extension for Joomla!
X-WR-RELCALID:3E26604A-50F4-4449-8B3E-E4F4932D05B5
X-WR-TIMEZONE:Europe/Zurich
BEGIN:VTIMEZONE
TZID:Europe/Zurich
TZUNTIL:20231029T010000Z
BEGIN:STANDARD
TZNAME:CET
DTSTART:20211031T030000
TZOFFSETFROM:+0200
TZOFFSETTO:+0100
RDATE:20221030T030000
END:STANDARD
BEGIN:DAYLIGHT
TZNAME:CEST
DTSTART:20210328T020000
TZOFFSETFROM:+0100
TZOFFSETTO:+0200
RDATE:20220327T020000
RDATE:20230326T020000
END:DAYLIGHT
END:VTIMEZONE
BEGIN:VEVENT
UID:34326430-3466-4465-b836-373536333934
DTSTAMP:20260420T003928Z
CATEGORIES:Folk & More
CLASS:PUBLIC
DESCRIPTION;ALTREP="CID:<FFFF__=0ABBE548DFE235B58f9e8a93d@coffeebean.com>":
 Inspiriert von ihrer Tour durch den Senegal präsentiert «Bouye» neue Songs
 \, welche unter die Haut gehen und mitreissen: Eine explosive Mischung von
  Musikstilen unterschiedlicher Kulturen voller feurigem Soul\, afrikanisch
 en Rhythmen\, jazzigen Melodien &amp\; Good Vibes.\n«Bouye» erlangte mit d
 em fulminanten Debüt «One World» Bekanntheit in der Schweizer und in der S
 enegalesischen Musiklandschaft. Andrea Janser begeistert mit ihrer warmen\
 , ausdrucksstarken Stimme\, den prägnanten Melodien und raffinierten Arran
 gements. Inspiriert von den Menschen der Musik und dem Lebensrhythmus in S
 enegal erzählt die Schweizerin auf beeindruckende Weise Geschichten und Tr
 äume auf Englich\, Französisch\, Deutsch und Wolof. Auch die neuen Stücke 
 entstanden in Zusammenarbeit mit etlichen senegalesischen Stars und der ho
 chkarätigen Band - der kulturelle Austausch macht die Musik kraftvoll und 
 einzigartig.\nNun startet die interkontinentale Band «Bouye» abermals durc
 h\, um Konzerte in ganz Europa und Afrika zu geben.\nCome\, feel it\, danc
 e &amp\; enjoy.\nAndrea Janser (voc\, g)\, Mike Ryrie (ts)\, Roman Bieri (
 tb)\, Beat Oezmen (p)\, Abdourakhmane Fall (b)\, Omar Diadji (dr)\nwww.bou
 ye.band
DTSTART:20220310T191500Z
DTEND:20220310T191500Z
GEO:00;0
LOCATION:
ORGANIZER:
SEQUENCE:1
SUMMARY:Bouye – African-European Roots & Rhythms
TRANSP:OPAQUE
URL:https://www.esse.bar/index.php/veranstaltungen/vergangene-veranstaltung
 en/1566-bouye-african-european-roots-rhythms/2022-03-10-20-15
END:VEVENT
END:VCALENDAR
