BEGIN:VCALENDAR
VERSION:2.0
PRODID:-//ESSE Musicbar Winterthur//NONSGML kigkonsult.se iCalcreator 2.41.92//
CALSCALE:GREGORIAN
METHOD:PUBLISH
UID:39383165-3634-4361-a264-633665656437
X-WR-CALNAME:iCagenda
X-WR-CALDESC:Event Management Extension for Joomla!
X-WR-RELCALID:3E26604A-50F4-4449-8B3E-E4F4932D05B5
X-WR-TIMEZONE:Europe/Zurich
BEGIN:VTIMEZONE
TZID:Europe/Zurich
TZUNTIL:20240331T010000Z
BEGIN:STANDARD
TZNAME:CET
DTSTART:20211031T030000
TZOFFSETFROM:+0200
TZOFFSETTO:+0100
RDATE:20221030T030000
RDATE:20231029T030000
END:STANDARD
BEGIN:DAYLIGHT
TZNAME:CEST
DTSTART:20220327T020000
TZOFFSETFROM:+0100
TZOFFSETTO:+0200
RDATE:20230326T020000
END:DAYLIGHT
END:VTIMEZONE
BEGIN:VEVENT
UID:31613264-3839-4562-b962-646461313831
DTSTAMP:20260419T232607Z
CATEGORIES:Jazz
CLASS:PUBLIC
DESCRIPTION;ALTREP="CID:<FFFF__=0ABBE548DFE235B58f9e8a93d@coffeebean.com>":
 «Blue Exercise»\, die Band des Konstanzer Saxophonisten Klaus Knöpfle\, is
 t ein Kollektiv\, das als homogene Einheit agiert\, als musikalischer Orga
 nismus. Mit Reto Giacopuzzi an den Drums und Roland Christen am E-Bass aus
  St. Gallen spielt er seit 1996 zusammen und so haben sich die drei Musike
 r inzwischen ein traumwandlerisches Gefühl des „Sich-Verlassen-Könnens“ er
 spielt. Sie bieten die vertraute Atmosphäre\, die als Bedingung für den So
 listen fungiert\, das Risiko Improvisation bis an seine Grenzen auszuloten
 .\nIhre Musik besteht vorrangig aus Eigenkompositionen aller Beteiligten u
 nd besitzt die magische Anziehungskraft und betörende Ausstrahlung einer g
 ewachsenen Gemeinschaft. Grooves unterschiedlicher Stilistiken vermischen 
 sich mit darüber schwingenden Themen und Improvisationsexkursionen\, die m
 al eingängig\, farbig\, dann wieder abstrakt und skuril anmuten\, das Ganz
 e verpackt mit grosser Spielfreude. Dabei berücksichtigt diese Band weit m
 ehr als die musikalischen Aspekte einer Live-Performance und spielt spanne
 nde Konzerte\, die sich durch eine unaufgesetzte Authentizität auszeichnen
 .\nKlaus Knöpfle (ts\, as\, ss)\, Roland Christen (eb)\, Reto Giacopuzzi (
 dr)\nhttp://www.blueexercise.de
DTSTART:20220512T181500Z
DTEND:20220512T181500Z
GEO:00;0
LOCATION:
ORGANIZER:
SEQUENCE:1
SUMMARY:Blue Exercise
TRANSP:OPAQUE
URL:https://www.esse.bar/index.php/veranstaltungen/vergangene-veranstaltung
 en/1567-tba-14/2022-05-12-20-15
END:VEVENT
END:VCALENDAR
