BEGIN:VCALENDAR
VERSION:2.0
PRODID:-//ESSE Musicbar Winterthur//NONSGML kigkonsult.se iCalcreator 2.41.92//
CALSCALE:GREGORIAN
METHOD:PUBLISH
UID:66306633-3335-4666-b466-636130613937
X-WR-CALNAME:iCagenda
X-WR-CALDESC:Event Management Extension for Joomla!
X-WR-RELCALID:3E26604A-50F4-4449-8B3E-E4F4932D05B5
X-WR-TIMEZONE:Europe/Zurich
BEGIN:VTIMEZONE
TZID:Europe/Zurich
TZUNTIL:20240331T010000Z
BEGIN:STANDARD
TZNAME:CET
DTSTART:20211031T030000
TZOFFSETFROM:+0200
TZOFFSETTO:+0100
RDATE:20221030T030000
RDATE:20231029T030000
END:STANDARD
BEGIN:DAYLIGHT
TZNAME:CEST
DTSTART:20220327T020000
TZOFFSETFROM:+0100
TZOFFSETTO:+0200
RDATE:20230326T020000
END:DAYLIGHT
END:VTIMEZONE
BEGIN:VEVENT
UID:61316238-6366-4232-a130-653533303763
DTSTAMP:20260419T212652Z
CATEGORIES:Sommerloch
CLASS:PUBLIC
DESCRIPTION;ALTREP="CID:<FFFF__=0ABBE548DFE235B58f9e8a93d@coffeebean.com>":
 Hier ist Johnny Simon mit einem bunten Strauss gefühlvoller\, schön-melanc
 holischer und eindringlicher Songs mit Tiefgang. Johnny Simon ist das Solo
 -Projekt des Multi-instrumentalisten Simon Winiger\, seit Jahren bekannt a
 ls Bassist von Marc Sway\, «Lunik» oder als Bandleader der Funkband «Starc
 h». Als Sideman inzwischen um die halbe Welt getourt\, ist bei Winiger die
  Lust auf etwas Eigenes stetig gewachsen.\nJetzt liegt das Ergebnis vor un
 d «Johnny Simon» spricht eine ganz eigene musikalische Sprache. Sämtliche 
 der brandneuen Songs in der Singer-Songwriter-Tradition sind im Rahmen ein
 es 4-monatigen Rom-Aufenthalts in einer kleinen Wohnung im Künstlerviertel
  San Lorenzo entstanden. Winiger hat nicht nur alles selbst komponiert und
  produziert\, sondern auch sämtliche Instrumente – von E-Bass und Gitarre 
 übers Piano bis zu Bluesharp oder Trompete – selbst eingespielt. Dazu agie
 rt der 40-jährige Ostschweizer so überzeugend\, stilsicher und geschmackvo
 ll als Sänger\, als hätte er nie etwas anderes getan.\n«Johnny Simon» präs
 entiert tiefgründige\, schwebende Songs über die Ewige Stadt\, über die Ei
 nsamkeit und das Verlorensein und natürlich über die Liebe. Ein besonderes
  Element sind vertrackte und komplexe Beats\, die aus Sounds aus den Stras
 sen Roms entstanden sind und raffiniert in die Songs einfliessen.\nJohnny 
 Simon (voc\, tp\, keyb\, b\, harp)\, Martin Deplazes (g\, keyb\, voc)\, Ch
 rigel Bossard (dr\, keyb\, voc)\nwww.simonwiniger.com
DTSTART:20220828T181500Z
DTEND:20220828T181500Z
GEO:00;0
LOCATION:
ORGANIZER:
SEQUENCE:1
SUMMARY:Johnny Simon
TRANSP:OPAQUE
URL:https://www.esse.bar/index.php/veranstaltungen/vergangene-veranstaltung
 en/1568-johnny-simon/2022-08-28-20-15
END:VEVENT
END:VCALENDAR
