BEGIN:VCALENDAR
VERSION:2.0
PRODID:-//ESSE Musicbar Winterthur//NONSGML kigkonsult.se iCalcreator 2.41.92//
CALSCALE:GREGORIAN
METHOD:PUBLISH
UID:61613562-3361-4334-b666-653731336366
X-WR-CALNAME:iCagenda
X-WR-CALDESC:Event Management Extension for Joomla!
X-WR-RELCALID:3E26604A-50F4-4449-8B3E-E4F4932D05B5
X-WR-TIMEZONE:Europe/Zurich
BEGIN:VTIMEZONE
TZID:Europe/Zurich
TZUNTIL:20231029T010000Z
BEGIN:STANDARD
TZNAME:CET
DTSTART:20211031T030000
TZOFFSETFROM:+0200
TZOFFSETTO:+0100
RDATE:20221030T030000
END:STANDARD
BEGIN:DAYLIGHT
TZNAME:CEST
DTSTART:20210328T020000
TZOFFSETFROM:+0100
TZOFFSETTO:+0200
RDATE:20220327T020000
RDATE:20230326T020000
END:DAYLIGHT
END:VTIMEZONE
BEGIN:VEVENT
UID:37346432-3039-4033-a262-653362383633
DTSTAMP:20260420T003906Z
CATEGORIES:Jazz
CLASS:PUBLIC
DESCRIPTION;ALTREP="CID:<FFFF__=0ABBE548DFE235B58f9e8a93d@coffeebean.com>":
 «Contemporary Soul Jazz»\, etwa so würde man Elmar Freys Musik wohl am bes
 ten bezeichnen. Mit viel Verve gespielte bluesige und melodiöse Kompositio
 nen\, mit sattem Groove unterlegt\, mit frechen Bläser-Arrangements gespic
 kt - so präsentiert sich dieses brandneue Septett.\nElmar Frey\, als Schla
 gzeuger ein gefragter Sideman in der Jazzszene\, tritt mit «Seven Colors» 
 aus dem Schatten und agiert wieder einmal als Bandleader\, Komponist und A
 rrangeur. Er hat sein früheres Sextett (CD «News From The Past» 2005)\, um
  einen weiteren Bläser erweitert\, was den Bandsound noch voller und farbe
 nreicher werden lässt. Ein illustrer Bläsersatz trifft auf eine hard-swing
 in' Rhythm-Section.\nDaniel Schenker (tp)\, Rodrigo Botter Maio (as\, fl)\
 , Christoph Grab (ts\, ss)\, Stefan Schlegel (tb)\, Alessandro d’Episcopo 
 (p)\, German Klaiber (db)\, Elmar Frey (dr\, comp\, arr)\nhttp://www.elmar
 frey.com/https://www.youtube.com/watch?v=wplktiTiVLI
DTSTART:20220311T191500Z
DTEND:20220311T191500Z
GEO:00;0
LOCATION:
ORGANIZER:
SEQUENCE:1
SUMMARY:Elmar Frey Septet – «Seven Colors»
TRANSP:OPAQUE
URL:https://www.esse.bar/index.php/veranstaltungen/vergangene-veranstaltung
 en/1572-elmar-frey-septet-seven-colors/2022-03-11-20-15
END:VEVENT
END:VCALENDAR
