BEGIN:VCALENDAR
VERSION:2.0
PRODID:-//ESSE Musicbar Winterthur//NONSGML kigkonsult.se iCalcreator 2.41.92//
CALSCALE:GREGORIAN
METHOD:PUBLISH
UID:64323537-3736-4437-b738-336635353538
X-WR-CALNAME:iCagenda
X-WR-CALDESC:Event Management Extension for Joomla!
X-WR-RELCALID:3E26604A-50F4-4449-8B3E-E4F4932D05B5
X-WR-TIMEZONE:Europe/Zurich
BEGIN:VTIMEZONE
TZID:Europe/Zurich
TZUNTIL:20231029T010000Z
BEGIN:STANDARD
TZNAME:CET
DTSTART:20211031T030000
TZOFFSETFROM:+0200
TZOFFSETTO:+0100
RDATE:20221030T030000
END:STANDARD
BEGIN:DAYLIGHT
TZNAME:CEST
DTSTART:20220327T020000
TZOFFSETFROM:+0100
TZOFFSETTO:+0200
RDATE:20230326T020000
END:DAYLIGHT
END:VTIMEZONE
BEGIN:VEVENT
UID:64373266-3238-4664-a538-643965316262
DTSTAMP:20260420T003431Z
CATEGORIES:Jazz Jam Point Session
CLASS:PUBLIC
DESCRIPTION;ALTREP="CID:<FFFF__=0ABBE548DFE235B58f9e8a93d@coffeebean.com>":
 Musikanten\, die mitjamen möchten melden sich direkt bei Richard Schmied r
 schmied(at)bluewin.ch | Telefon 044-869 42 32 – mobil 079-433 76 33\nDie J
 am-Session ist seit der Zeit des Chicago-Jazz eine beliebte Form des Zusam
 menspielens von Jazz-Musikern\, die in der Regel nicht zusammenspielen und
  sich oft kaum kennen. Gespielt werden dabei meist Standards aus dem Great
  American Songbook\, von Traditional bis Swing.\nVorgestellt werden bei «J
 am Point» interessante Solisten\, begleitet von der «JamPointGroup» als Ba
 sis-Band. Im Lauf des Abends bringen sich weitere Musiker:innen in die Jam
 -Session ein. Das Publikum nimmt so teil am spontanen Entstehen musikalisc
 h-kreativer Momente.\nDie Sessions sind offen für alle. Sie werden geleite
 t vom Band-Leader\, der wechselnde Gruppierungen zusammenstellt. Damit sol
 l erreicht werden\, dass sowohl Publikum wie Musiker einen interessanten u
 nd musikalisch hochstehenden Abend erleben.\nErwartet wird an diesem Abend
  als «special guest» der aus der Region Winterthur stammende\, jetzt aber 
 in Graubünden lebende Reto Grundbacher\, Posaune und Bass.\nReto ist in de
 r Region sehr gut vernetzt und insbesondere bekannt als Bandleader der «Ju
 mping Notes» und als Organisator der Konzertreihe «Jazz i dä Fabrik». Er w
 ird sich mit einigen Nummern zusammen mit der Jam-Point Group vorstellen\,
  anschliessend wird die Jamsession eröffnet.\nWiederum werden Musiker:inne
 n aus der näheren und weiteren Umgebung erwartet\, die Liste wird auf der 
 «Jam-Point»-Webseite laufend aktualisiert. Das Publikum wird wie üblich ei
 nen herrlich swingenden Abend erleben - mit Jazz vom Feinsten! Selbstverst
 ändlich sind\, wie auch bei den bisherigen Sessions\, engagierte Jazzer:in
 nen herzlich eingeladen\, spontan die Instrumente und natürlich auch die S
 timme(!) mitzubringen. In kleinen\, regelmässig wechselnden Formationen\, 
 kommen alle zum Spielen.\nRichi Schmied (tp\, flh)\, Bruno Bosshardt (cl\,
  s)\, Elmar Kluth (p)\, Timon Roth (b)\, Bernie Ruch (dr)Special guest: Re
 to Grundbacher (tb\, b)\nBisher angemeldete Gastmusiker für den 30. März 2
 022 sind:Richard Lipiec (ts)\, Ivan Masha Künzli (g)\, Rolf Winiger (tb)\n
 http://www.jam-point.ch/\nMusikanten\, die mitjamen möchten melden sich di
 rekt bei Richard Schmied rschmied(at)bluewin.ch | Telefon 044-869 42 32 – 
 mobil 079-433 76 33
DTSTART:20220330T181500Z
DTEND:20220330T181500Z
GEO:00;0
LOCATION:
ORGANIZER:
SEQUENCE:1
SUMMARY:Jam Point Session
TRANSP:OPAQUE
URL:https://www.esse.bar/index.php/veranstaltungen/vergangene-veranstaltung
 en/1573-jam-point-session-2/2022-03-30-20-15
END:VEVENT
END:VCALENDAR
