BEGIN:VCALENDAR
VERSION:2.0
PRODID:-//ESSE Musicbar Winterthur//NONSGML kigkonsult.se iCalcreator 2.41.92//
CALSCALE:GREGORIAN
METHOD:PUBLISH
UID:38626138-6565-4438-b564-643137326237
X-WR-CALNAME:iCagenda
X-WR-CALDESC:Event Management Extension for Joomla!
X-WR-RELCALID:3E26604A-50F4-4449-8B3E-E4F4932D05B5
X-WR-TIMEZONE:Europe/Zurich
BEGIN:VTIMEZONE
TZID:Europe/Zurich
TZUNTIL:20231029T010000Z
BEGIN:STANDARD
TZNAME:CET
DTSTART:20211031T030000
TZOFFSETFROM:+0200
TZOFFSETTO:+0100
RDATE:20221030T030000
END:STANDARD
BEGIN:DAYLIGHT
TZNAME:CEST
DTSTART:20220327T020000
TZOFFSETFROM:+0100
TZOFFSETTO:+0200
RDATE:20230326T020000
END:DAYLIGHT
END:VTIMEZONE
BEGIN:VEVENT
UID:38353563-3666-4335-b934-376166366562
DTSTAMP:20260420T004004Z
CATEGORIES:Jazz
CLASS:PUBLIC
DESCRIPTION;ALTREP="CID:<FFFF__=0ABBE548DFE235B58f9e8a93d@coffeebean.com>":
 Die Musik von «Switalo Jazz» ist am ehesten im Mainstream-Jazz und Be-Bop 
 anzusiedeln. Die Formation besteht aus zwei schweiz-italienischen und zwei
  süditalienischen Musikern und besticht mit schnörkellosem Straight-Jazz u
 nd einer gehörigen Portion Italianità.\nAttilio Troiano ist in der Schweiz
  kein unbeschriebenes Blatt\, hat er doch bei Jazz Ascona mit seiner Big-B
 and diverse Male für Furore gesorgt. Neben seinem virtuosen Saxophon- und 
 Querflötenspiel ist er ausserdem ein begnadeter Sänger und unterhält das P
 ublikum vortrefflich mit seiner charismatischen Art im Stile eines „Croone
 rs“.\nÜber die letzten Jahre haben sich die Musiker von «Switalo Jazz» auf
  Tourneen in der Schweiz\, Italien\, Deutschland und Frankreich mit ihrer 
 sympathischen Art und ihrem musikalischen Können in die Herzen des Publiku
 ms gespielt.\nAttilio Troiano (s\, fl\, voc)\, Simone Bollini (p)\, Giusep
 pe Venezia (db)\, Lucio Marelli (dr)\nwww.luciomarelli.ch/switalojazz
DTSTART:20220401T181500Z
DTEND:20220401T181500Z
GEO:00;0
LOCATION:
ORGANIZER:
SEQUENCE:1
SUMMARY:Switalo Jazz – Swiss-Italian-Jazzproject
TRANSP:OPAQUE
URL:https://www.esse.bar/index.php/veranstaltungen/vergangene-veranstaltung
 en/1575-switalo-jazz-swiss-italian-jazzproject/2022-04-01-20-15
END:VEVENT
END:VCALENDAR
