BEGIN:VCALENDAR
VERSION:2.0
PRODID:-//ESSE Musicbar Winterthur//NONSGML kigkonsult.se iCalcreator 2.41.92//
CALSCALE:GREGORIAN
METHOD:PUBLISH
UID:35633031-3261-4138-b165-393037346630
X-WR-CALNAME:iCagenda
X-WR-CALDESC:Event Management Extension for Joomla!
X-WR-RELCALID:3E26604A-50F4-4449-8B3E-E4F4932D05B5
X-WR-TIMEZONE:Europe/Zurich
BEGIN:VTIMEZONE
TZID:Europe/Zurich
TZUNTIL:20231029T010000Z
BEGIN:STANDARD
TZNAME:CET
DTSTART:20211031T030000
TZOFFSETFROM:+0200
TZOFFSETTO:+0100
RDATE:20221030T030000
END:STANDARD
BEGIN:DAYLIGHT
TZNAME:CEST
DTSTART:20220327T020000
TZOFFSETFROM:+0100
TZOFFSETTO:+0200
RDATE:20230326T020000
END:DAYLIGHT
END:VTIMEZONE
BEGIN:VEVENT
UID:33636639-6265-4031-b338-393666373134
DTSTAMP:20260420T005528Z
CATEGORIES:Jazz
CLASS:PUBLIC
DESCRIPTION;ALTREP="CID:<FFFF__=0ABBE548DFE235B58f9e8a93d@coffeebean.com>":
 Inspiriert durch Stimmen wie Ella Fitzgerald\, Billie Holiday\, Nat King C
 ole\, oder Blossom Dearie präsentierten «A Day In Central Park» jeweils ei
 nen Mix aus Eigenkompositionen und frischen Arrangements bekannter Jazz-St
 andards aus dem Great American Songbook.\nIntime Erzählkunst eingebettet i
 n lyrische Harmonien - mit einer geschmeidigen und klaren Stimme bot Alleg
 ra Zumsteg ihre Kompositionen dar. Durch Improvisation und ausgeklügelte A
 rrangements kreierte sie mit ihren Mitmusikern Thomas Goralski (Piano) und
  Dario Schattel (Bass) verträumte Klanglandschaften\, und lud die Zuhörend
 en dabei mit auf eine Reise ins goldene Zeitalter des Jazz.\nIm brandneuen
  Projekt nimmt sich das Trio nun den grossen Komponisten des Jazz an. Los 
 geht es mit George Gershwin (26.9.1898 – 11.9.1937). Gespielt werden natür
 lich dessen grösste Hits\, vom Pianisten Thomas Goralski frisch arrangiert
 . Dazu gibt es ein wenig über die Lebensgeschichte von Gershwin zu erfahre
 n\, hin und wieder gespickt mit einigen Anekdoten. Als «Special Guest» wir
 kt jeweils ein weiterer Musiker mit – diesmal Adrian Mira an der Klarinett
 e.\nAllegra Zumsteg (voc)\, Thomas Goralski (p\, arr)\, Dario Schattel (db
 )Special Guest: Adrian Mira (cl)\nhttps://www.adayincentralpark.chhttps://
 www.adrianmira.com
DTSTART:20220413T181500Z
DTEND:20220413T181500Z
GEO:00;0
LOCATION:
ORGANIZER:
SEQUENCE:1
SUMMARY:A Day In Central Park – plays Gershwin
TRANSP:OPAQUE
URL:https://www.esse.bar/index.php/veranstaltungen/vergangene-veranstaltung
 en/1576-a-day-in-central-park-plays-gershwin/2022-04-13-20-15
END:VEVENT
END:VCALENDAR
