BEGIN:VCALENDAR
VERSION:2.0
PRODID:-//ESSE Musicbar Winterthur//NONSGML kigkonsult.se iCalcreator 2.41.92//
CALSCALE:GREGORIAN
METHOD:PUBLISH
UID:32346362-6563-4066-b966-643231383265
X-WR-CALNAME:iCagenda
X-WR-CALDESC:Event Management Extension for Joomla!
X-WR-RELCALID:3E26604A-50F4-4449-8B3E-E4F4932D05B5
X-WR-TIMEZONE:Europe/Zurich
BEGIN:VTIMEZONE
TZID:Europe/Zurich
TZUNTIL:20231029T010000Z
BEGIN:STANDARD
TZNAME:CET
DTSTART:20211031T030000
TZOFFSETFROM:+0200
TZOFFSETTO:+0100
RDATE:20221030T030000
END:STANDARD
BEGIN:DAYLIGHT
TZNAME:CEST
DTSTART:20210328T020000
TZOFFSETFROM:+0100
TZOFFSETTO:+0200
RDATE:20220327T020000
RDATE:20230326T020000
END:DAYLIGHT
END:VTIMEZONE
BEGIN:VEVENT
UID:61396136-6665-4238-a462-396233663862
DTSTAMP:20260420T005739Z
CATEGORIES:Jazz
CLASS:PUBLIC
DESCRIPTION;ALTREP="CID:<FFFF__=0ABBE548DFE235B58f9e8a93d@coffeebean.com>":
 Unkompliziert und absolut kurzfristig haben die «Söldner» angeboten\, die 
 entstandene Lücke im Programm zu füllen. Wir geniessen also die Band mit M
 artin Medimorec (vib)\, Matthias Reinhard-DeRoo (db)\, Christian Bucher (d
 r) gleich zweimal hintereinander. Herzlichen Dank!\n\n«Die Söldner der ver
 rückten Liebe» sind eine ausgefuchste Live Jazz Band. Als gefragte Einzelk
 ämpfer trifft man sie in verschiedensten Formationen\, die von Big Band bi
 s zu Vertonung von Kunst und Literatur reichen.\nAls Trio haben sich Marti
 n Medimorec (mallets)\, Christian Bucher (drums) und Matthias Reinhard-DeR
 oo (bass) vor Jahren gefunden\, um – ohne es zu merken – einen eigenen Sti
 l zu prägen\, der sich vom Geist des Blues getragen in freie Rhythmen\, Me
 lodien und Harmonien vorwagt\, manchmal wild und frech\, manchmal lieblich
  und verlangend.\nIhre Songs versehen sie mit Titeln wie «Les bisquits oub
 liés»\, «Chueli luege» oder «The Goodness She Feels». Solche Titel verführ
 en das Publikum in verspielter Weise in die Musik\, die diese drei Musketi
 ere\, die jedes Lied nur einmal spielen\, schaffen.\nMartin Medimorec (vib
 )\, Matthias Reinhard-DeRoo (db)\, Christian Bucher (dr)\nYouTube soundclo
 ud.com\nhttps://www.lesmercenairesdelamourfou.com
DTSTART:20220318T191500Z
DTEND:20220318T191500Z
GEO:00;0
LOCATION:
ORGANIZER:
SEQUENCE:1
SUMMARY:Les Mercenaires des L’Amour Fou – #2
TRANSP:OPAQUE
URL:https://www.esse.bar/index.php/veranstaltungen/vergangene-veranstaltung
 en/1578-les-mercenaires-des-l-amour-fou-2/2022-03-18-20-15
END:VEVENT
END:VCALENDAR
