BEGIN:VCALENDAR
VERSION:2.0
PRODID:-//ESSE Musicbar Winterthur//NONSGML kigkonsult.se iCalcreator 2.41.92//
CALSCALE:GREGORIAN
METHOD:PUBLISH
UID:37323562-3339-4235-a137-633565383038
X-WR-CALNAME:iCagenda
X-WR-CALDESC:Event Management Extension for Joomla!
X-WR-RELCALID:3E26604A-50F4-4449-8B3E-E4F4932D05B5
X-WR-TIMEZONE:Europe/Zurich
BEGIN:VTIMEZONE
TZID:Europe/Zurich
TZUNTIL:20231029T010000Z
BEGIN:STANDARD
TZNAME:CET
DTSTART:20211031T030000
TZOFFSETFROM:+0200
TZOFFSETTO:+0100
RDATE:20221030T030000
END:STANDARD
BEGIN:DAYLIGHT
TZNAME:CEST
DTSTART:20210328T020000
TZOFFSETFROM:+0100
TZOFFSETTO:+0200
RDATE:20220327T020000
RDATE:20230326T020000
END:DAYLIGHT
END:VTIMEZONE
BEGIN:VEVENT
UID:35343038-6535-4264-b564-356265336438
DTSTAMP:20260420T003915Z
CATEGORIES:Blues
CLASS:PUBLIC
DESCRIPTION;ALTREP="CID:<FFFF__=0ABBE548DFE235B58f9e8a93d@coffeebean.com>":
 Nachdem die Gebrüder Pietsch bzw. ihr Duo «Tidemore» aus Berlin den bei un
 s geplanten Gig aufgrund wegfallender Anschluss-Gigs leider kurzfristig ab
 sagen mussten\, freuen wir uns\, mit Walter Baumgartner und Joe Schwach ei
 nen mehr als nur würdigen Ersatz anbieten zu dürfen.\nDie «Acoustic Blues 
 Drifter» lassen den Blues und weitere amerikanische Volksmusik bis hin zum
  Country aus der Zeit von 1920 bis 1980 wieder aufleben\, verstehen es abe
 r auch\, durch originelle Eigenkompositionen neue Wege zu gehen und so die
 sen ursprünglichen Musikstilen eine ganze eigene Note zu geben. Sie präsen
 tieren im Duo einen authentischen\, luftigen Sound mit Bluesharp\, Gitarre
  und Gesang. Nicht umsonst heisst ihre letzte CD passend «Stripped To the 
 Bone».\nWalter Baumgartner singt und spielt die Harmonica. Kontinuierlich 
 hat er sich in der Schweizer Bluesszene einen Namen geschaffen. Nebst dem 
 akustischen Duo tourt er mit seiner Band «Walt’s Blues Box» und als Gast b
 ei diversen Bands durch die CH\, AT und DE. 2016 hat er den «Swiss Blues A
 ward» gewonnen.\nAn der Gitarre spielt und singt Joe Schwach. Auch ihn mus
 s man natürlich nicht mehr vorstellen. Joe ist seit vielen Jahren auf der 
 Schweizer Bühnen zu sehen und zu hören. U.a. spielte er jahrelang mit John
  Brack\, war mit Toni Vescoli auf Tour\, nahm im Studio mit Albert Lee auf
  und ist seit Jahren mit der Country Band «Rusty Nuggets» und anderen Form
 ationen unterwegs.\nWalter Baumgartner (harp\, voc)\, Joe Schwach (g\, voc
 )\nwww.walterbaumgartner.ch
DTSTART:20220327T173000Z
DTEND:20220327T173000Z
GEO:00;0
LOCATION:
ORGANIZER:
SEQUENCE:1
SUMMARY:Acoustic Blues Drifter
TRANSP:OPAQUE
URL:https://www.esse.bar/index.php/veranstaltungen/vergangene-veranstaltung
 en/1579-acoustic-blues-drifter/2022-03-27-19-30
END:VEVENT
END:VCALENDAR
