BEGIN:VCALENDAR
VERSION:2.0
PRODID:-//ESSE Musicbar Winterthur//NONSGML kigkonsult.se iCalcreator 2.41.92//
CALSCALE:GREGORIAN
METHOD:PUBLISH
UID:63313436-3434-4734-b935-653337373232
X-WR-CALNAME:iCagenda
X-WR-CALDESC:Event Management Extension for Joomla!
X-WR-RELCALID:3E26604A-50F4-4449-8B3E-E4F4932D05B5
X-WR-TIMEZONE:Europe/Zurich
BEGIN:VTIMEZONE
TZID:Europe/Zurich
TZUNTIL:20231029T010000Z
BEGIN:STANDARD
TZNAME:CET
DTSTART:20211031T030000
TZOFFSETFROM:+0200
TZOFFSETTO:+0100
RDATE:20221030T030000
END:STANDARD
BEGIN:DAYLIGHT
TZNAME:CEST
DTSTART:20220327T020000
TZOFFSETFROM:+0100
TZOFFSETTO:+0200
RDATE:20230326T020000
END:DAYLIGHT
END:VTIMEZONE
BEGIN:VEVENT
UID:63356665-6166-4332-b639-343962393064
DTSTAMP:20260420T003922Z
CATEGORIES:young people on stage
CLASS:PUBLIC
DESCRIPTION;ALTREP="CID:<FFFF__=0ABBE548DFE235B58f9e8a93d@coffeebean.com>":
 teachers on stage\nJetzt stehen nicht die Schüler*innen auf der ESSE-Bühne
 \, sondern fünf Lehrpersonen der Jugendmusikschule. Die neu gegründete Ban
 d „City Funk Beats' freut sich bei ihrer Premiere auf zahlreiche Zuhörer*i
 nnen. Komm in die ESSE-Musicbar und lerne die Lehrpersonen von einer ander
 en Seite kennen.\nChristoph Battaglia (g)\, Vaclav Kolek (sax\, tp\, tb)\,
  Benjamin Kobi (p/keyb)\, Stan Sandronov (b)\, Walter Vitale (dr) Special 
 Guest: Brigitte Neumärker (voc)\nZum Flyer
DTSTART:20220408T181500Z
DTEND:20220408T181500Z
GEO:00;0
LOCATION:
ORGANIZER:
SEQUENCE:1
SUMMARY:City Funk Beats
TRANSP:OPAQUE
URL:https://www.esse.bar/index.php/veranstaltungen/vergangene-veranstaltung
 en/1580-city-funk-beats/2022-04-08-20-15
END:VEVENT
END:VCALENDAR
