BEGIN:VCALENDAR
VERSION:2.0
PRODID:-//ESSE Musicbar Winterthur//NONSGML kigkonsult.se iCalcreator 2.41.92//
CALSCALE:GREGORIAN
METHOD:PUBLISH
UID:32313862-6466-4330-b461-326630363436
X-WR-CALNAME:iCagenda
X-WR-CALDESC:Event Management Extension for Joomla!
X-WR-RELCALID:3E26604A-50F4-4449-8B3E-E4F4932D05B5
X-WR-TIMEZONE:Europe/Zurich
BEGIN:VTIMEZONE
TZID:Europe/Zurich
TZUNTIL:20240331T010000Z
BEGIN:STANDARD
TZNAME:CET
DTSTART:20211031T030000
TZOFFSETFROM:+0200
TZOFFSETTO:+0100
RDATE:20221030T030000
RDATE:20231029T030000
END:STANDARD
BEGIN:DAYLIGHT
TZNAME:CEST
DTSTART:20220327T020000
TZOFFSETFROM:+0100
TZOFFSETTO:+0200
RDATE:20230326T020000
END:DAYLIGHT
END:VTIMEZONE
BEGIN:VEVENT
UID:36353536-3837-4630-b030-666438353663
DTSTAMP:20260419T233149Z
CATEGORIES:Folk & More
CLASS:PUBLIC
DESCRIPTION;ALTREP="CID:<FFFF__=0ABBE548DFE235B58f9e8a93d@coffeebean.com>":
 Seit fast schon 20 Jahren machen die drei Frauenfelder Freunde Michel Tief
 enbacher (Gitarre\, Piano\, Gesang)\, Christian Langenegger (Gitarre) und 
 Michael Siegenthaler (Bass) zusammen Musik\, mal mehr\, mal weniger.\nAls 
 «Kryffo» kennt man sie hierzulande. Stilmässig hat man sich von Anfang an 
 dem zeitlosen\, melodiösen Gitarrenrock von Vorbildern wie REM oder Del Am
 itri verschrieben. Seit zwei Jahren spielen sie ihre eingängigen\, allesam
 t selbst komponierten Songs in akustischen Versionen. Neu sind auch Lieder
  mit deutschen Texten im Repertoire.\nMichel Tiefenbacher (g\, p\, voc)\, 
 Christian Langenegger (g)\, Michael Siegenthaler (b)\nMehr Infos unter www
 .mx3.ch/KryffoOder Facebook
DTSTART:20220515T173000Z
DTEND:20220515T173000Z
GEO:00;0
LOCATION:
ORGANIZER:
SEQUENCE:1
SUMMARY:Kryffo – Acoustic Rock Trio
TRANSP:OPAQUE
URL:https://www.esse.bar/index.php/veranstaltungen/vergangene-veranstaltung
 en/1581-kryffo-acoustic-rock-trio/2022-05-15-19-30
END:VEVENT
END:VCALENDAR
