BEGIN:VCALENDAR
VERSION:2.0
PRODID:-//ESSE Musicbar Winterthur//NONSGML kigkonsult.se iCalcreator 2.41.92//
CALSCALE:GREGORIAN
METHOD:PUBLISH
UID:30623966-6462-4861-a239-636264613565
X-WR-CALNAME:iCagenda
X-WR-CALDESC:Event Management Extension for Joomla!
X-WR-RELCALID:3E26604A-50F4-4449-8B3E-E4F4932D05B5
X-WR-TIMEZONE:Europe/Zurich
BEGIN:VTIMEZONE
TZID:Europe/Zurich
TZUNTIL:20240331T010000Z
BEGIN:STANDARD
TZNAME:CET
DTSTART:20211031T030000
TZOFFSETFROM:+0200
TZOFFSETTO:+0100
RDATE:20221030T030000
RDATE:20231029T030000
END:STANDARD
BEGIN:DAYLIGHT
TZNAME:CEST
DTSTART:20220327T020000
TZOFFSETFROM:+0100
TZOFFSETTO:+0200
RDATE:20230326T020000
END:DAYLIGHT
END:VTIMEZONE
BEGIN:VEVENT
UID:36396131-6561-4734-b438-313938373639
DTSTAMP:20260419T230123Z
CATEGORIES:Jazz
CLASS:PUBLIC
DESCRIPTION;ALTREP="CID:<FFFF__=0ABBE548DFE235B58f9e8a93d@coffeebean.com>":
 «Timeline Promenade» ist die zweite Produktion der «Baschnagel Group» um d
 en Schweizer Schlagzeuger Pius Baschnagel und folgt auf sein 2017 erschien
 enes Debütalbum «Hello Dear Zyklop». Das Album wurde direkt nach einer Rei
 he von Konzerten mit dem Titel «Celebration Tour» in Baschnagels Heimat im
  Herbst 2020 aufgenommen. Aufgenommen in den renommierten Hardstudios in W
 interthur direkt im Anschluss an die Tournee im November 2020\, enthält da
 s Album 13 Eigenkompositionen\, die alle aus der Feder des Leaders stammen
 \, wobei ein Stück «Happy Kid» vom Bassisten Patrick Sommer beigesteuert w
 urde.\nPius Baschnagel ist in der Schweizer Jazzszene als Schlagzeuger der
  ersten Stunde bekannt und hat im Laufe seiner Karriere eine beeindruckend
 e Liste von Auftritten mit der NDR Bigband\, dem Zurich Jazz Orchestra\, B
 enny Golson\, Joshua Redman und Till Brönner vorzuweisen\, doch die meiste
  Aufmerksamkeit hat er mit seiner eigenen Gruppe erhalten. Das Besondere a
 n dieser Besetzung ist\, dass alle Mitglieder Multiinstrumentalisten sind 
 und Instrumente wie Moog\, Elektronik und ein Theremin in den Mix einbring
 en.\nDie Musik\, die auf «Timeline Promenade» präsentiert wird – viele der
  Tracks wurden in den ersten Tagen der Pandemie komponiert – ist zweifello
 s in der Jazztradition verwurzelt\, aber mit dem eigenen\, einzigartigen G
 eschmack der «Baschnagel Group» versehen. Thematisch gibt es einen sorgfäl
 tig entworfenen musikalischen Bogen\, der sich durch die Kompositionen zie
 ht und Ereignisse\, Stimmungen und einen Blick auf die aktuelle Welt\, in 
 der wir leben\, widerspiegelt. Die Hauptstücke des Albums sind mit einer R
 eihe faszinierender und einzigartiger kurzer Stücke durchsetzt\, die als Ü
 bergänge fungieren und diese eklektische Mischung aus zeitgenössischem Jaz
 z zusammenhalten. Dieses Album hat für jeden Jazzfan etwas zu bieten.\nRen
 é Mosele (tp)\, Reto Suhner (s)\, Gregor Müller (p\, keyb)\, Patrick Somme
 r (eb\, db)\, Pius Baschnagel (dr\, perc)\nhttps://www.piusbaschnagel.com
DTSTART:20220505T181500Z
DTEND:20220505T181500Z
GEO:00;0
LOCATION:
ORGANIZER:
SEQUENCE:1
SUMMARY:Baschnagel Group – «Timeline Promenade»
TRANSP:OPAQUE
URL:https://www.esse.bar/index.php/veranstaltungen/vergangene-veranstaltung
 en/1583-baschnagel-group-timeline-promenade/2022-05-05-20-15
END:VEVENT
END:VCALENDAR
