BEGIN:VCALENDAR
VERSION:2.0
PRODID:-//ESSE Musicbar Winterthur//NONSGML kigkonsult.se iCalcreator 2.41.92//
CALSCALE:GREGORIAN
METHOD:PUBLISH
UID:65666339-6465-4536-b234-386665346166
X-WR-CALNAME:iCagenda
X-WR-CALDESC:Event Management Extension for Joomla!
X-WR-RELCALID:3E26604A-50F4-4449-8B3E-E4F4932D05B5
X-WR-TIMEZONE:Europe/Zurich
BEGIN:VTIMEZONE
TZID:Europe/Zurich
TZUNTIL:20240331T010000Z
BEGIN:STANDARD
TZNAME:CET
DTSTART:20211031T030000
TZOFFSETFROM:+0200
TZOFFSETTO:+0100
RDATE:20221030T030000
RDATE:20231029T030000
END:STANDARD
BEGIN:DAYLIGHT
TZNAME:CEST
DTSTART:20220327T020000
TZOFFSETFROM:+0100
TZOFFSETTO:+0200
RDATE:20230326T020000
END:DAYLIGHT
END:VTIMEZONE
BEGIN:VEVENT
UID:61313566-3438-4739-b934-636163613561
DTSTAMP:20260419T232312Z
CATEGORIES:Jazz
CLASS:PUBLIC
DESCRIPTION;ALTREP="CID:<FFFF__=0ABBE548DFE235B58f9e8a93d@coffeebean.com>":
 Mit grosser Abenteuer- und Experimentierfreude\, aber auch respektvoll\, r
 ütteln die vier Bandmitglieder von «Meta Zero» an den Grundelementen der T
 radition\, transponieren diese innovativ in die neue Zeit und kreieren gek
 onnt ihre eigene Stimme. Dass sie sich traumwandlerisch verstehen und eine
 n Ansatz von Gleichberechtigung\, individueller Stärke und farbigen Klänge
 n subtil aufbereitet haben\, macht ihren Auftritt zu einem nachhaltigen Er
 lebnis\, angesiedelt in der weiten Spanne zwischen ausgewählten schön komp
 onierten Passagen und der offenen Freiheit.\nAuch wenn jedes einzelne Mitg
 lied in Anbetracht der musikalischen Persönlichkeit für sich steht\, ergän
 zt sich die Gruppe in ihrem Bestreben\, den Zeitgeist zu erfassen und wagt
  gemeinsam den nächsten Schritt Richtung Innovation.\nRafael Schilt (s) Da
 ve Gisler (g) Raphael Walser (db) Samir Böhringer (dr\, comp)\nhttps://www
 .samirboehringer.com/meta-zero
DTSTART:20220507T181500Z
DTEND:20220507T181500Z
GEO:00;0
LOCATION:
ORGANIZER:
SEQUENCE:1
SUMMARY:Meta Zero – «Meta Zero For Now»
TRANSP:OPAQUE
URL:https://www.esse.bar/index.php/veranstaltungen/vergangene-veranstaltung
 en/1584-meta-zero-meta-zero-for-now/2022-05-07-20-15
END:VEVENT
END:VCALENDAR
