BEGIN:VCALENDAR
VERSION:2.0
PRODID:-//ESSE Musicbar Winterthur//NONSGML kigkonsult.se iCalcreator 2.41.92//
CALSCALE:GREGORIAN
METHOD:PUBLISH
UID:63643764-6134-4035-b065-373235613532
X-WR-CALNAME:iCagenda
X-WR-CALDESC:Event Management Extension for Joomla!
X-WR-RELCALID:3E26604A-50F4-4449-8B3E-E4F4932D05B5
X-WR-TIMEZONE:Europe/Zurich
BEGIN:VTIMEZONE
TZID:Europe/Zurich
TZUNTIL:20240331T010000Z
BEGIN:STANDARD
TZNAME:CET
DTSTART:20211031T030000
TZOFFSETFROM:+0200
TZOFFSETTO:+0100
RDATE:20221030T030000
RDATE:20231029T030000
END:STANDARD
BEGIN:DAYLIGHT
TZNAME:CEST
DTSTART:20220327T020000
TZOFFSETFROM:+0100
TZOFFSETTO:+0200
RDATE:20230326T020000
END:DAYLIGHT
END:VTIMEZONE
BEGIN:VEVENT
UID:61633065-3664-4434-a430-653234363436
DTSTAMP:20260419T230059Z
CATEGORIES:Jazz
CLASS:PUBLIC
DESCRIPTION;ALTREP="CID:<FFFF__=0ABBE548DFE235B58f9e8a93d@coffeebean.com>":
 Das transatlantische Quartett «Emitime» mag keine Grenzen – nicht in der M
 usik\, nicht im Leben allgemein. Die vier Musiker aus New York\, Buenos Ai
 res und Zürich spielen frischen\, kompromisslosen Jazz und strömen eine Fü
 lle an Energien und Emotionen aus. Ein Spiel mit Zeit und Raum\, emitime.
 \nUnter beinahe geschichtsträchtigen Umständen - nämlich einen Tag vor dem
  New Yorker Lockdown im März 2020 - wurde ihr Erstling «Scarce» im Bacque 
 Recording Studio in New Jersey aufgenommen.\nDer Release beim argentinisch
 en Label Ears and Eyes erfolgte im Oktober 2021.\nTobias Pfister (ts)\, Sa
 ntiago Leibson (p)\, Santiago Lamisovski (db)\, Samir Böhringer (dr)\nhttp
 s://emitime.bandcamp.com/album/scarce\nhttps://www.tobiaspfister.comhttps:
 //www.santiagoleibson.comhttps://soundcloud.com/santiago-lamisovski/ask-me
 -nowhttps://www.samirboehringer.com
DTSTART:20220527T181500Z
DTEND:20220527T181500Z
GEO:00;0
LOCATION:
ORGANIZER:
SEQUENCE:1
SUMMARY:Emitime – «Scarce»
TRANSP:OPAQUE
URL:https://www.esse.bar/index.php/veranstaltungen/vergangene-veranstaltung
 en/1585-emitime-scarce/2022-05-27-20-15
END:VEVENT
END:VCALENDAR
