BEGIN:VCALENDAR
VERSION:2.0
PRODID:-//ESSE Musicbar Winterthur//NONSGML kigkonsult.se iCalcreator 2.41.92//
CALSCALE:GREGORIAN
METHOD:PUBLISH
UID:35336334-3134-4037-b032-336562393665
X-WR-CALNAME:iCagenda
X-WR-CALDESC:Event Management Extension for Joomla!
X-WR-RELCALID:3E26604A-50F4-4449-8B3E-E4F4932D05B5
X-WR-TIMEZONE:Europe/Zurich
BEGIN:VTIMEZONE
TZID:Europe/Zurich
TZUNTIL:20240331T010000Z
BEGIN:STANDARD
TZNAME:CET
DTSTART:20211031T030000
TZOFFSETFROM:+0200
TZOFFSETTO:+0100
RDATE:20221030T030000
RDATE:20231029T030000
END:STANDARD
BEGIN:DAYLIGHT
TZNAME:CEST
DTSTART:20220327T020000
TZOFFSETFROM:+0100
TZOFFSETTO:+0200
RDATE:20230326T020000
END:DAYLIGHT
END:VTIMEZONE
BEGIN:VEVENT
UID:31333361-3938-4539-b734-393065376663
DTSTAMP:20260419T233015Z
CATEGORIES:Jazz
CLASS:PUBLIC
DESCRIPTION;ALTREP="CID:<FFFF__=0ABBE548DFE235B58f9e8a93d@coffeebean.com>":
 Es tut sich wahrlich eine wunderbare Welt auf\, lässt man die Musik von «A
 RBRE» auf sich wirken. Ein entspannter Groove voller Leichtigkeit und Zuve
 rsicht. Dicht gewebte Strukturen\, klar und knorrig\, elektrifiziert und a
 nalog\, zugänglich und erhaben zugleich.\nDas Berner Kollektiv malt mit un
 erhörten Klangfarben Soundgemälde voller Schönheit und Tiefe\, ein sattgrü
 nes und raschelndes Labyrinth aus Ästen und Verzweigungen\, die immer wied
 er in ungewohnt psychedelische Ecken abdriften.\nPaul Butscher (flugelhorn
 \, electronics)\, Mélusine Chappuis (piano\, rhodes\, synth\, electronics)
 \, Xavier Almeida (dr)\nhttps://arbremusic.ch/\nVideo:ARBRE - Lunaires (St
 udio session)https://youtu.be/rkSHtD0L0kQ \nARBRE – Marée nocturne (Studio
  session)https://youtu.be/-92OcWjMNG0
DTSTART:20220506T181500Z
DTEND:20220506T181500Z
GEO:00;0
LOCATION:
ORGANIZER:
SEQUENCE:1
SUMMARY:ARBRE – «Lunaires»
TRANSP:OPAQUE
URL:https://www.esse.bar/index.php/veranstaltungen/vergangene-veranstaltung
 en/1593-arbre-lunaires/2022-05-06-20-15
END:VEVENT
END:VCALENDAR
