BEGIN:VCALENDAR
VERSION:2.0
PRODID:-//ESSE Musicbar Winterthur//NONSGML kigkonsult.se iCalcreator 2.41.92//
CALSCALE:GREGORIAN
METHOD:PUBLISH
UID:36613562-6533-4263-b436-373761343134
X-WR-CALNAME:iCagenda
X-WR-CALDESC:Event Management Extension for Joomla!
X-WR-RELCALID:3E26604A-50F4-4449-8B3E-E4F4932D05B5
X-WR-TIMEZONE:Europe/Zurich
BEGIN:VTIMEZONE
TZID:Europe/Zurich
TZUNTIL:20240331T010000Z
BEGIN:STANDARD
TZNAME:CET
DTSTART:20211031T030000
TZOFFSETFROM:+0200
TZOFFSETTO:+0100
RDATE:20221030T030000
RDATE:20231029T030000
END:STANDARD
BEGIN:DAYLIGHT
TZNAME:CEST
DTSTART:20220327T020000
TZOFFSETFROM:+0100
TZOFFSETTO:+0200
RDATE:20230326T020000
END:DAYLIGHT
END:VTIMEZONE
BEGIN:VEVENT
UID:63343061-6566-4663-b639-356136626334
DTSTAMP:20260419T230947Z
CATEGORIES:Swing'n'Jazz
CLASS:PUBLIC
DESCRIPTION;ALTREP="CID:<FFFF__=0ABBE548DFE235B58f9e8a93d@coffeebean.com>":
 «The Power Swing Trio» nennen sich die drei renommierten Musiker internati
 onalen Formats ohne falsche Bescheidenheit\, denn es swingt wie der Teufel
 \, wenn sie auf der Bühne stehen. Klassiker aus den Benny Goodman und Nat 
 King Cole Songbooks\, wenig bekannte Titel des Genres und Eigenkomposition
 en zählen zum Repertoire der drei Protagonisten.\nDer Schweizer Klarinetti
 st und Tenorsaxofonist Linus Wyrsch (aus Küssnacht am Rigi) gehört in sein
 er langjährigen Wahlheimat New York zu den gefragtesten Instrumentalisten 
 des Jazz. Jenseits des grossen Teichs ist er in diversen Formationen anzut
 reffen und durfte letztes Jahr als Teil der Gruppe «Lucy Kalantari &amp\; 
 The Jazz Cats» sogar einen GRAMMY Award® gewinnen. Diese Ehre wurde bisher
  nur wenigen Schweizer Musikern zu Teil. Auch mit den Altmeistern und ehem
 aligen Benny Goodman-Gitarristen Bucky Pizzarelli und Gene Bertoncini teil
 te er bereits mehrfach die Bühne. Neben seiner Hingabe zur Klarinette weis
 s er zweifellos auch auf dem Tenorsaxofon zu begeistern.\nDer aus Bremerha
 ven stammende Jazzsänger und Gitarrist Jörg Seidel gehört bereits seit vie
 len Jahren zu den bekanntesten und meistbeschäftigten Vertretern des Stils
  in Europa. Die Fachpresse nannte ihn schon vor 10 Jahren den 'deutschen J
 ohn Pizzarelli' ...und das mit Recht. Denn Seidel spielt\, swingt und sing
 t in einer eigenen Liga. Kein Wunder\, dass er mit grössten Referenzen und
  Komplimenten bedacht wird. So urteilte das 'Nordwest-Radio'\, keiner könn
 e '...derart mit Scat und Bluenotes umgehen wie der Bremerhavener Jörg Sei
 del”. Die 'German Jazzpages' betitelten ihn sogar als den '...aktuell hera
 usragenden europäischen Jazzsänger.'\nKomplettiert wird das Trio durch den
  aus der bekannten Pizzarelli-Dynastie stammenden Bassisten Martin Pizzare
 lli. Mehr als 200 Konzerte spielte Martin Pizzarelli in den Besetzungen se
 ines Bruders John\, ging darüber hinaus mit dem Pianisten Monty Alexander 
 sowie mit verschiedenen Besetzungen seines Vaters Bucky Pizzarelli auf Tou
 rnee und gehört zu den virtuosesten und swingendsten Bassisten der Szene. 
 Er gilt als 'Keeper of the flame'\, ein Bewahrer des Swing\, wie ihn viele
  Musiker heute gar nicht mehr spielen können.\n«The Power Swing Trio» tour
 t zum vierten Mal in Europa - einmal mehr sind die Zutaten für ein heisses
  Swing-Menü angerichtet!\nLinus Wyrsch (cl\,ts)\, Jörg Seidel (g\, voc)\, 
 Martin Pizzarelli (db)\nhttps://www.linusmusic.comhttp://www.joergseidel.d
 e
DTSTART:20220504T181500Z
DTEND:20220504T181500Z
GEO:00;0
LOCATION:
ORGANIZER:
SEQUENCE:1
SUMMARY:The Power Swing Trio
TRANSP:OPAQUE
URL:https://www.esse.bar/index.php/veranstaltungen/vergangene-veranstaltung
 en/1594-the-power-swing-trio/2022-05-04-20-15
END:VEVENT
END:VCALENDAR
