BEGIN:VCALENDAR
VERSION:2.0
PRODID:-//ESSE Musicbar Winterthur//NONSGML kigkonsult.se iCalcreator 2.41.92//
CALSCALE:GREGORIAN
METHOD:PUBLISH
UID:37373163-3737-4631-b833-656165383731
X-WR-CALNAME:iCagenda
X-WR-CALDESC:Event Management Extension for Joomla!
X-WR-RELCALID:3E26604A-50F4-4449-8B3E-E4F4932D05B5
X-WR-TIMEZONE:Europe/Zurich
BEGIN:VTIMEZONE
TZID:Europe/Zurich
TZUNTIL:20240331T010000Z
BEGIN:STANDARD
TZNAME:CET
DTSTART:20211031T030000
TZOFFSETFROM:+0200
TZOFFSETTO:+0100
RDATE:20221030T030000
RDATE:20231029T030000
END:STANDARD
BEGIN:DAYLIGHT
TZNAME:CEST
DTSTART:20220327T020000
TZOFFSETFROM:+0100
TZOFFSETTO:+0200
RDATE:20230326T020000
END:DAYLIGHT
END:VTIMEZONE
BEGIN:VEVENT
UID:34313764-3864-4131-b631-306161373762
DTSTAMP:20260419T230242Z
CATEGORIES:Swing'n'Jazz
CLASS:PUBLIC
DESCRIPTION;ALTREP="CID:<FFFF__=0ABBE548DFE235B58f9e8a93d@coffeebean.com>":
 Wie kein anderer prägt Joscho Stephan mit seinem Spiel den modernen Gypsy 
 Swing: Durch seinen authentischen Ton\, mit harmonischer Raffinesse und rh
 ythmischem Gespür\, vor allem aber mit atemberaubender Solotechnik hat sic
 h Stephan in der internationalen Gitarrenszene einen herausragenden Ruf er
 spielt.\nIm Februar erst noch war er als Solist auf Tournee in Deutschland
  mit dem Zürcher Kammerorchester und Startgeiger Daniel Hope. Ebenfalls al
 s Solist mit auf dieser Tournee war der Zürcher Schlagzeuger Dimitri Monst
 ein und Alexander Ponet aka „PonyXpress“. So entstand die Idee relativ sch
 nell bei Gelegenheit ein spezielles Konzert zusammen in Zürich zu spielen.
  Ponet hat die Chance am „Schopf“ gepackt und mit seinem Trio «PonyXpress 
 feat. Dimitri Monstein und Benedikt Schönenberger» Joscho Stephan in die S
 chweiz eingeladen.\nJoscho Stephan (g)\, Alexander Ponet (vib\, p)\, Bened
 ict Schönenberger (db)\, Dimitri Monstein (dr)\nwww.joscho-stephan.de www.
 dimitri-monstein.com\n\nJoscho Stephan (Gitarre)Stephan versteht es wie ke
 in Zweiter\, aus der Vielzahl aktueller Gypsy Swing Adaptionen herauszurag
 en\, indem er neben den vielen Interpretationen der bekannten Klassiker de
 s Genres den Gypsy Swing mit Latin\, Klassik und Pop liiert. Hier zeigt si
 ch Stephans Stärke als kreativer Visionär. Und das begeistert das junge un
 d alte Konzertpublikum gleichermaßen. Auf Youtube hat er sage und schreibe
  88‘000 Abonnenten und ein riesiges Publikum. Als weiteres Highlight war e
 r auch bereits live mit Tommy Emmanuel auf internationalen Konzertreisen.
 \nPonyXpress – Alexander Ponet (Vibraphon &amp\; Klavier)Der umtriebige Be
 lgier\, studierte lebt und arbeitet in Zürich. Neben seiner Profession als
  Pauker und Kulturmanager ist er zudem ein begnadeter Pianist und hat ein 
 Herz welches für den Jazz und die Improvisation schlägt. Er spielt(e) u.a.
  mit Daniel Hope\, der Philharmonia Zürich\, Jojo Mayer\, und war Solopauk
 er in Macau SAR. Mit seinem Jazz Projekt „PonyXpress“ lässt er immer wiede
 r spezielle Besetzungen und Momente entstehen welche für die Zuhörenden du
 rch die Lebendigkeit\, Spielfreude und groovenden Touch\, eine unterhaltsa
 me packende Reise kreiert wird.\nBenedict Schönenberger (Bass)Der gefragte
  Bassist mit Heimvorteil aus Winterthur\, studierte an der ZhdK JazzKontra
 bass und E-Bass. Spielte bereits Konzerte\, Tourneen und Studioaufträge mi
 tHeimweh\, Feel Good Inc.\, TORP\, Shriduna\, Manolo Panic\, James Arthur 
 (UK)\, Edmar Castaneda (COL / USA)\, Anna Känzig &amp\; Tobey Lucas\, Lea 
 Lu\, dem Dimitri Monstein Ensemble\, der Trigger Concert Bigband\, dem Jug
 endorchester ‘il Mosaico’\, Neo &amp\; Neo\, dem Goldtimer Trio und mit vi
 elen mehr…\nDimitri Monstein (Drums)Der junge Zürcher teilte bereits mit S
 tars wie Andrea Bocelli und Daniel Hope die Bühne. Monstein ist einer der 
 ganz wenigen seiner Generation\, die sowohl in der Klassik\, im Jazz als a
 uch im Popsegment zuhause ist. Seit 2016 ist Dimitri mit seinem Projekt Di
 mitri Monstein Ensemble in der Schweiz Deutschland und Rumänien unterwegs.
  Nebst seinem eigenen Projekt spielt Monstein Schlagzeug bei der Show Salt
 o Natale von Rolf + Gregory Knie. Diverse Tourneen und Konzerte führten Di
 mitri nebst Konzerten in der Schweiz\, nach Deutschland\, Österreich\, Ita
 lien\, Rumänien\, Taiwan und Singapore. Als beliebter Sideman spielte Dimi
 tri zusammen mit bereits namhaften Künstler wie Helene Fischer\, Pe Werner
 \, Fatcat\, dem Zürcher Kammerorchester\, Bent Knee\, Heimweh\, Pirmin Hub
 er. Seine Leidenschaft für den Jazz lebt er in renommierten Bands als Mitg
 lied oderSideman wie u. a. Swiss Army Big Band\, Zurich Jazz Orchestra\, S
 wiss Jazz Orchestra\, Nicole Johänntgen aus.
DTSTART:20220502T181500Z
DTEND:20220502T181500Z
GEO:00;0
LOCATION:
ORGANIZER:
SEQUENCE:1
SUMMARY:PonyXpress feat. Joscho Stephan und Dimitri Monstein – «Modern Gyps
 y Jazz»
TRANSP:OPAQUE
URL:https://www.esse.bar/index.php/veranstaltungen/vergangene-veranstaltung
 en/1595-ponyxpress-feat-joscho-stephan-und-dimitri-monstein-modern-gypsy-j
 azz/2022-05-02-20-15
END:VEVENT
END:VCALENDAR
