BEGIN:VCALENDAR
VERSION:2.0
PRODID:-//ESSE Musicbar Winterthur//NONSGML kigkonsult.se iCalcreator 2.41.92//
CALSCALE:GREGORIAN
METHOD:PUBLISH
UID:31636335-6166-4334-b732-653234373830
X-WR-CALNAME:iCagenda
X-WR-CALDESC:Event Management Extension for Joomla!
X-WR-RELCALID:3E26604A-50F4-4449-8B3E-E4F4932D05B5
X-WR-TIMEZONE:Europe/Zurich
BEGIN:VTIMEZONE
TZID:Europe/Zurich
TZUNTIL:20231029T010000Z
BEGIN:STANDARD
TZNAME:CET
DTSTART:20211031T030000
TZOFFSETFROM:+0200
TZOFFSETTO:+0100
RDATE:20221030T030000
END:STANDARD
BEGIN:DAYLIGHT
TZNAME:CEST
DTSTART:20220327T020000
TZOFFSETFROM:+0100
TZOFFSETTO:+0200
RDATE:20230326T020000
END:DAYLIGHT
END:VTIMEZONE
BEGIN:VEVENT
UID:33353139-3633-4364-a330-303366643263
DTSTAMP:20260419T225946Z
CATEGORIES:Blues
CLASS:PUBLIC
DESCRIPTION;ALTREP="CID:<FFFF__=0ABBE548DFE235B58f9e8a93d@coffeebean.com>":
 WICHTIG: Dieses Konzert findet im Eisenwerk Frauenfeld statt! \nMit leicht
 er Hand verknüpft Thorbjørn Risager vor Spannung knisternden Blues- Rock\,
  treibenden Boogie und emotionsgetränkten Soul.\nDer charismatische Sänger
  und Gitarrist Thorbjørn Risager und seine Band «The Black Tornado» aus Ko
 penhagen haben eine perfekte Mischung aus kurzweiligen\, abwechslungsreich
 en und packenden Songs gefunden\, die mit spielerischer Klasse und Enterta
 inment gepaart sind. Risager steht im Mittelpunkt und gehört ausserdem zu 
 den besten Bluessängern Dänemarks. Seine raue\, ausdrucksstarke Stimme ist
  der Stoff\, der den Motor der Band befeuert. Doch man braucht mehr als nu
 r eine ausgezeichnete Stimme\, um dauerhaft auf der Überholspur fahren zu 
 können: eine 6-Mann-Band\, die es bereits seit achtzehn Jahren gibt\, die 
 Blues\, Rock und Soulmusik beherrschen und jedes Jahr einhundert Konzerte 
 spielen.\nVideo:https://www.youtube.com/watch?v=lB3o-ngVh5U&amp\;t=13s\nDe
 r Blues sei «die Kettenkugel am Bein jedes Musikers»\, sagte Eric Burdon s
 chon 1968 in dem bekenntnishaften «As The Years Go Passing By» über seine 
 wichtigste Inspirationsquelle. Diese fast schicksalhafte Verklammerung der
  Populärmusik mit dem amerikanischen Blues verspüren viele europäische Kün
 stler bis auf den heutigen Tag und Thorbjørn Risager (bereits 2005 zum dän
 ischen Bluesmusiker des Jahres gekürt) ist einer der souveränsten Fackeltr
 äger dieser Tradition. Mit windgegerbter Stimme\, knackig konzentrierten G
 itarrensoli und der Energie seiner sechsköpfigen\, von Bläsern dominierten
  Band «The Black Tornado» im Rücken\, verpasst der Mann aus Kopenhagen dem
  geschichtsträchtigen Sound des Blues einen topmodernen Schliff. «Come On 
 In» ist sein mittlerweile zehntes Album und ein richtiges Meisterstück. Mi
 t scheinbar leichter Hand verknüpft Risager vor Spannung knisternden Blues
 - Rock\, treibenden Boogie und emotionsgetränkten Soul. Und er demonstrier
 t mit feinen Nuancen bei Produktion\, Songwriting und instrumentaler Ausge
 staltung\, wie faszinierend vielfältig der Blues heute klingen kann.\nDie 
 Band gewann zwei Mal in Folge den 'Danish Music Award'\, wurde für den 'Br
 itish Blues Award' nominiert und erntete - ebenfalls schon zweimal - den '
 Preis der deutschen Schallplattenkritik'. Sie traten in Indien und in den 
 USA auf\, die Zeitschrift 'The Blues' reihte Risager in eine hochkarätige 
 Liste mit u.a. Robert Cray\, Walter Trout und Joe Bonamassa ein und 'Blues
 News' zählt sie 'aktuell sicherlich zu den innovativsten Acts der internat
 ionalen Bluesszene'.\nAch ja - noch eine Bemerkung zum Schluss: Risager un
 d seinen Mannen betreten nicht zum ersten Mal Frauenfelder Boden: Die abso
 lut tight agierende Band\, dynamische Grooves\, fast durchgängig eigenes S
 ongmaterial\, das sich aus Blues-\, R&amp\;B-\, Rock- und Jazz-Elementen s
 peist\, dass alles begeisterte das Publikum bereits anlässlich des «Bluesf
 estival Frauenfeld» am 8. März 2018 bis hin zu Standing Ovations und macht
 e den „Dänen mit der schwarzen Stimme“ zum faktischen Headliner des Abends
 .\nThorbjørn Risager (voc\, g)\, Kasper Wagner (s)\, Peter Kehl (tb)\, Joa
 chim Svensmark (g)\, Emil Balsgaard (keyb)\, Soren Bojgaard (b)\, Martin S
 eidelin (dr)\nhttps://risager.info\nTickets:https://www.ticketino.com/de/E
 vent/Thorbj-rn-Risager-The-Black-Tornado-DK/160990
DTSTART:20220423T190000Z
DTEND:20220423T190000Z
GEO:00;0
LOCATION:Eisenwerk Frauenfeld
ORGANIZER:
SEQUENCE:1
SUMMARY:Thorbjørn Risager & The Black Tornado (DK)
TRANSP:OPAQUE
URL:https://www.esse.bar/index.php/veranstaltungen/vergangene-veranstaltung
 en/1596-thorbjorn-risager-the-black-tornado-dk/2022-04-23-21-00
END:VEVENT
END:VCALENDAR
