BEGIN:VCALENDAR
VERSION:2.0
PRODID:-//ESSE Musicbar Winterthur//NONSGML kigkonsult.se iCalcreator 2.41.92//
CALSCALE:GREGORIAN
METHOD:PUBLISH
UID:30373432-6230-4261-a361-383534623139
X-WR-CALNAME:iCagenda
X-WR-CALDESC:Event Management Extension for Joomla!
X-WR-RELCALID:3E26604A-50F4-4449-8B3E-E4F4932D05B5
X-WR-TIMEZONE:Europe/Zurich
BEGIN:VTIMEZONE
TZID:Europe/Zurich
TZUNTIL:20240331T010000Z
BEGIN:STANDARD
TZNAME:CET
DTSTART:20211031T030000
TZOFFSETFROM:+0200
TZOFFSETTO:+0100
RDATE:20221030T030000
RDATE:20231029T030000
END:STANDARD
BEGIN:DAYLIGHT
TZNAME:CEST
DTSTART:20220327T020000
TZOFFSETFROM:+0100
TZOFFSETTO:+0200
RDATE:20230326T020000
END:DAYLIGHT
END:VTIMEZONE
BEGIN:VEVENT
UID:66323632-3739-4661-a133-356333336630
DTSTAMP:20260419T232738Z
CATEGORIES:Blues
CLASS:PUBLIC
DESCRIPTION;ALTREP="CID:<FFFF__=0ABBE548DFE235B58f9e8a93d@coffeebean.com>":
 Alles begann vor bald 10 Jahren in Winterthur. Es trafen sich Blueser aus 
 der ganzen Schweiz und aus dem nahen Ausland zu Jam-Sessions. Bald fanden 
 sich daraus Musiker\, die sich von den menschlichen wie musikalischen Ansp
 rüchen auf einer Ebene (be)fanden und zu Freunden mit einem einzigartigen 
 Gespür für tolle Songs und deren Interpretationen wurden.\nAus diesem enor
 men Potential entwickelte sich schon bald das Projekt «Deutsch/Schweizer B
 luesgipfel»\, deren Kern die Rottweiler Renate und Jochen Braun zusammen m
 it dem Aargauer Martin Baschung bilden.\nNeben regelmässigen Touren organi
 sierten die drei auch gegenseitige\, teils legendäre Gastspiele und gemein
 same Workshops – also eine äusserst fruchtbare Zusammenarbeit auf verschie
 denen Ebenen.\n2022 geht der «Deutsch/Schweizer Bluesgipfel» in eine neue 
 Runde. Im Zentrum stehen Bluessongs die mit Können\, Leidenschaft und Spas
 s interpretiert werden. Und so darf sich das Publikum auf einen hochkaräti
 gen Bluesabend freuen\, mit einer Band die sichtlich sprüht vor Enthusiasm
 us und sich freut\, ein fantastisches Repertoire zu präsentieren!\nRenate 
 Braun (DE voc)\, Jochen Braun (DE g\, voc)\, Martin Baschung (CH g\, voc)\
 , Hampi Vogt (CH bluesharp)\, Martin Bürger (DE b)\, Imad Barnieh (CH dr\,
  voc)\nhttps://www.martinbaschung.ch
DTSTART:20220508T173000Z
DTEND:20220508T173000Z
GEO:00;0
LOCATION:
ORGANIZER:
SEQUENCE:1
SUMMARY:Deutsch/Schweizer Bluesgipfel
TRANSP:OPAQUE
URL:https://www.esse.bar/index.php/veranstaltungen/vergangene-veranstaltung
 en/1598-deutsch-schweizer-bluesgipfel/2022-05-08-19-30
END:VEVENT
END:VCALENDAR
