BEGIN:VCALENDAR
VERSION:2.0
PRODID:-//ESSE Musicbar Winterthur//NONSGML kigkonsult.se iCalcreator 2.41.92//
CALSCALE:GREGORIAN
METHOD:PUBLISH
UID:65323465-6566-4364-a264-316636373236
X-WR-CALNAME:iCagenda
X-WR-CALDESC:Event Management Extension for Joomla!
X-WR-RELCALID:3E26604A-50F4-4449-8B3E-E4F4932D05B5
X-WR-TIMEZONE:Europe/Zurich
BEGIN:VTIMEZONE
TZID:Europe/Zurich
TZUNTIL:20240331T010000Z
BEGIN:STANDARD
TZNAME:CET
DTSTART:20211031T030000
TZOFFSETFROM:+0200
TZOFFSETTO:+0100
RDATE:20221030T030000
RDATE:20231029T030000
END:STANDARD
BEGIN:DAYLIGHT
TZNAME:CEST
DTSTART:20220327T020000
TZOFFSETFROM:+0100
TZOFFSETTO:+0200
RDATE:20230326T020000
END:DAYLIGHT
END:VTIMEZONE
BEGIN:VEVENT
UID:39343964-3039-4362-a365-383463353666
DTSTAMP:20260419T232904Z
CATEGORIES:Jazz
CLASS:PUBLIC
DESCRIPTION;ALTREP="CID:<FFFF__=0ABBE548DFE235B58f9e8a93d@coffeebean.com>":
 Zwei international etablierte Musiker\, zwei filigrane Techniker\, zwei au
 sgewachsene Künstler\, zwei exzellente Könner. Wenn zwei kongeniale Gitarr
 isten sich zusammentun\, entsteht schlicht Fantastisches. Was die zwei Aus
 nahmeinstrumentalisten aus ihren akustischen Gitarren zaubern ist beeindru
 ckend. Das filigrane Zusammenspiel vertrackter Rhythmen\, feinfühligen Mel
 odien und graziler Saitentechnik verschmelzt in einer poetischen Wucht vol
 ler Zauber und Energie.\nDer Reiz im Zusammenschluss der beiden Ausnamekön
 ner liegt in der Verschmelzung zweier Gitarren-Welten. Der Fokus liegt nic
 ht etwa auf den Support des jeweiligen Stiles \, sondern es entsteht durch
  geschicktes Arrangement der beiden Komponisten ein Miteinander: Es eröffn
 et sich eine neue Welt\, wo Avantgarde auf melodiöse Improvisation und fre
 ie Harmonien triff. Dabei verzichten die beiden Musiker bewusst auf Elektr
 onik und lassen die akustische Gitarre als natürliches und ehrliches Instr
 ument klingen. Die akustische Gitarre unterstreicht diese intime Zweisamke
 it. Und bricht sogleich mit den avantgardistischen Kompositionen.\nChristy
  Doran (g)\, Franz Hellmüller (g)\nhttps://christydoran.chhttp://www.hellm
 uller.com
DTSTART:20220518T181500Z
DTEND:20220518T181500Z
GEO:00;0
LOCATION:
ORGANIZER:
SEQUENCE:1
SUMMARY:Beady Beast – «On The Go»
TRANSP:OPAQUE
URL:https://www.esse.bar/index.php/veranstaltungen/vergangene-veranstaltung
 en/1599-beady-beast-on-the-go/2022-05-18-20-15
END:VEVENT
END:VCALENDAR
