BEGIN:VCALENDAR
VERSION:2.0
PRODID:-//ESSE Musicbar Winterthur//NONSGML kigkonsult.se iCalcreator 2.41.92//
CALSCALE:GREGORIAN
METHOD:PUBLISH
UID:31666137-3638-4231-a230-663537633437
X-WR-CALNAME:iCagenda
X-WR-CALDESC:Event Management Extension for Joomla!
X-WR-RELCALID:3E26604A-50F4-4449-8B3E-E4F4932D05B5
X-WR-TIMEZONE:Europe/Zurich
BEGIN:VTIMEZONE
TZID:Europe/Zurich
TZUNTIL:20240331T010000Z
BEGIN:STANDARD
TZNAME:CET
DTSTART:20211031T030000
TZOFFSETFROM:+0200
TZOFFSETTO:+0100
RDATE:20221030T030000
RDATE:20231029T030000
END:STANDARD
BEGIN:DAYLIGHT
TZNAME:CEST
DTSTART:20220327T020000
TZOFFSETFROM:+0100
TZOFFSETTO:+0200
RDATE:20230326T020000
END:DAYLIGHT
END:VTIMEZONE
BEGIN:VEVENT
UID:38366564-6330-4239-b331-653932333136
DTSTAMP:20260419T225823Z
CATEGORIES:Jazz
CLASS:PUBLIC
DESCRIPTION;ALTREP="CID:<FFFF__=0ABBE548DFE235B58f9e8a93d@coffeebean.com>":
 Eric Hunzikers Groove-Jazz-Rakete «DogOn» explodiert in die Musiklandschaf
 t. Das Trio navigiert routiniert die Sphären von Jazz\, Funk\, sowie «Open
  Space» und steuert sein Raumschiff souverän durch delikate improvisierte 
 Meteoritenschauer und mysteriöse Soundnebel.\nMit funkigen Sphärenklängen 
 wird abgehoben\, mit erdigem Dub gelandet. Beim Ausloten von Hunzikers Kom
 positionen integrierte die Band spontan entstandene Grooves und Impression
 en. Nach dem Erscheinen der Debüt-CD auf UNIT Records ist das «DogOn»-Raum
 schiff an verschiedenen Plätzen gelandet. Die Band hat mehrere Tourneen in
  Russland\, Deutschland und Gastauftritte an Festivals wie dem Litauischen
  „Mama Jazz“ absolviert. Als Co-Astronauten hat sich Eric Hunziker das Rhy
 thm-Section-Gespann Thomas Tavano\, (E-Bass) und Tobias Hunziker\, (Drums)
  an Bord geholt\, beides gefragte Musiker in der Schweizer Szene.\n«DogOn»
 \, das Powertrio um den Züricher Gitarristen Eric Hunziker\, stammt aus de
 m Umfeld der Luzerner Musikhochschule. Ohne stilistische Scheuklappen oder
  puristische Ansätze spielen die drei atemberaubende Fusionsmusik oder – w
 ie sie es selbst nennen – Groovejazz. Mit im Gepäck: Das zweite Album «Flo
 ater».\nEric Hunziker (g\, comp)\, Thomas Tavano (eb)\, Tobias Hunziker (d
 r)\nhttp://www.dogon.ch
DTSTART:20220519T181500Z
DTEND:20220519T181500Z
GEO:00;0
LOCATION:
ORGANIZER:
SEQUENCE:1
SUMMARY:DogOn – «Floater»
TRANSP:OPAQUE
URL:https://www.esse.bar/index.php/veranstaltungen/vergangene-veranstaltung
 en/1601-dogon-2/2022-05-19-20-15
END:VEVENT
END:VCALENDAR
