BEGIN:VCALENDAR
VERSION:2.0
PRODID:-//ESSE Musicbar Winterthur//NONSGML kigkonsult.se iCalcreator 2.41.92//
CALSCALE:GREGORIAN
METHOD:PUBLISH
UID:64323530-3665-4363-b434-333037303331
X-WR-CALNAME:iCagenda
X-WR-CALDESC:Event Management Extension for Joomla!
X-WR-RELCALID:3E26604A-50F4-4449-8B3E-E4F4932D05B5
X-WR-TIMEZONE:Europe/Zurich
BEGIN:VTIMEZONE
TZID:Europe/Zurich
TZUNTIL:20240331T010000Z
BEGIN:STANDARD
TZNAME:CET
DTSTART:20211031T030000
TZOFFSETFROM:+0200
TZOFFSETTO:+0100
RDATE:20221030T030000
RDATE:20231029T030000
END:STANDARD
BEGIN:DAYLIGHT
TZNAME:CEST
DTSTART:20220327T020000
TZOFFSETFROM:+0100
TZOFFSETTO:+0200
RDATE:20230326T020000
END:DAYLIGHT
END:VTIMEZONE
BEGIN:VEVENT
UID:62366436-3266-4133-b964-663563313439
DTSTAMP:20260419T230727Z
CATEGORIES:Jazz
CLASS:PUBLIC
DESCRIPTION;ALTREP="CID:<FFFF__=0ABBE548DFE235B58f9e8a93d@coffeebean.com>":
 In Zusammenarbeit mit dem Zentrum für Afrikastudien\nLinda Sikhakhane präs
 entiert die Tunes seiner jüngst in Basel aufgenommenen neuen CD.\nIsambulo
  bedeutet Offenbarung in IsiZulu. Der südafrikanische Saxophonist\, der En
 de letzten Jahres in Basel seine neue CD aufgenommen hat\, versteht seine 
 Musik als Landkarte zu unbekannten Zielen\, inspiriert von der Erinnerung 
 und in der Hoffnung auf Offenbarung.\nIm Zusammenspiel mit ihrer fantastis
 ch agierenden Schweizer Rhythmusgruppe können er und die grandiose österre
 ichische Sängerin Anna Widauer ihre tiefe musikalische Verbindung auf idea
 le Weise zur Geltung bringen.\nAnna Widauer (voc)\, Linda Sikhakhane (as)\
 , Lucca Fries (p)\, Fabien Iannone (b)\, Jonas Ruther (dr)\nhttp://www.lin
 dasikhakhane.com
DTSTART:20220526T181500Z
DTEND:20220526T181500Z
GEO:00;0
LOCATION:
ORGANIZER:
SEQUENCE:1
SUMMARY:Linda Sikhakhane‘s Isambulo
TRANSP:OPAQUE
URL:https://www.esse.bar/index.php/veranstaltungen/vergangene-veranstaltung
 en/1603-linda-sikhakhane-s-isambulo-2/2022-05-26-20-15
END:VEVENT
END:VCALENDAR
