BEGIN:VCALENDAR
VERSION:2.0
PRODID:-//ESSE Musicbar Winterthur//NONSGML kigkonsult.se iCalcreator 2.41.92//
CALSCALE:GREGORIAN
METHOD:PUBLISH
UID:32316630-3335-4135-b331-376563366336
X-WR-CALNAME:iCagenda
X-WR-CALDESC:Event Management Extension for Joomla!
X-WR-RELCALID:3E26604A-50F4-4449-8B3E-E4F4932D05B5
X-WR-TIMEZONE:Europe/Zurich
BEGIN:VTIMEZONE
TZID:Europe/Zurich
TZUNTIL:20240331T010000Z
BEGIN:STANDARD
TZNAME:CET
DTSTART:20211031T030000
TZOFFSETFROM:+0200
TZOFFSETTO:+0100
RDATE:20221030T030000
RDATE:20231029T030000
END:STANDARD
BEGIN:DAYLIGHT
TZNAME:CEST
DTSTART:20220327T020000
TZOFFSETFROM:+0100
TZOFFSETTO:+0200
RDATE:20230326T020000
END:DAYLIGHT
END:VTIMEZONE
BEGIN:VEVENT
UID:34643938-3236-4736-b133-363964643832
DTSTAMP:20260419T230222Z
CATEGORIES:Jazz
CLASS:PUBLIC
DESCRIPTION;ALTREP="CID:<FFFF__=0ABBE548DFE235B58f9e8a93d@coffeebean.com>":
 Dave Gisler geniesst einen hervorragenden Ruf als eigenwilliger Klangarchi
 tekt an der E-Gitarre. Mit dem Trio präsentiert er eine schillernde Ausleg
 eordnung von Möglichkeiten eines genresprengenden Trios welches im Jazz zu
  Hause ist\, sich aber auch beim Rock\, Punk und Noise bedient. Seit 2019 
 sind die drei Herren wiederholt mit der US-Trompeterin Jaimie Branch auf T
 our. Nachdem 2020 das Live-Album «Zurich Concert» mit Branch als Gast bei 
 Intakt Records erschien\, folgte 2022 «See You Out There» ebenfalls mit Br
 anch sowie der Saxophon-Legende David Murray.\nNun sind sie wieder im Trio
  unterwegs\, haben neue Aufnahmen und musikalisches Material im Gepäck\, w
 elches in den Äther und unter die Leute gelangen muss. Folgende Zitate von
 Rigobert Dittmann und Peter Margasak mögen die Musik gut beschreiben: «Duc
 kt euch\, hier fliegen Glückskeksbrösel durch die Luft» und «…blazing expl
 oration that masterfully conveys bottled up energy.»\nDave Gisler (g)\, Ra
 ffaele Bossard (db)\, Lionel Friedli (dr)\nhttp://davegisler.ch
DTSTART:20220601T181500Z
DTEND:20220601T181500Z
GEO:00;0
LOCATION:
ORGANIZER:
SEQUENCE:1
SUMMARY:Dave Gisler Trio
TRANSP:OPAQUE
URL:https://www.esse.bar/index.php/veranstaltungen/vergangene-veranstaltung
 en/1605-dave-gisler-trio/2022-06-01-20-15
END:VEVENT
END:VCALENDAR
